BEGIN:VCALENDAR
VERSION:2.0
PRODID:-//Young Broadway Actor News - ECPv6.2.6//NONSGML v1.0//EN
CALSCALE:GREGORIAN
METHOD:PUBLISH
X-WR-CALNAME:Young Broadway Actor News
X-ORIGINAL-URL:https://youngbway.org
X-WR-CALDESC:Events for Young Broadway Actor News
REFRESH-INTERVAL;VALUE=DURATION:PT1H
X-Robots-Tag:noindex
X-PUBLISHED-TTL:PT1H
BEGIN:VTIMEZONE
TZID:America/Los_Angeles
BEGIN:DAYLIGHT
TZOFFSETFROM:-0800
TZOFFSETTO:-0700
TZNAME:PDT
DTSTART:20220313T100000
END:DAYLIGHT
BEGIN:STANDARD
TZOFFSETFROM:-0700
TZOFFSETTO:-0800
TZNAME:PST
DTSTART:20221106T090000
END:STANDARD
TZID:America/New_York
BEGIN:DAYLIGHT
TZOFFSETFROM:-0500
TZOFFSETTO:-0400
TZNAME:EDT
DTSTART:20220313T070000
END:DAYLIGHT
BEGIN:STANDARD
TZOFFSETFROM:-0400
TZOFFSETTO:-0500
TZNAME:EST
DTSTART:20221106T060000
END:STANDARD
END:VTIMEZONE
BEGIN:VEVENT
DTSTART;VALUE=DATE:20220407
DTEND;VALUE=DATE:20220502
DTSTAMP:20260420T134032
CREATED:20220318T224957Z
LAST-MODIFIED:20220318T224957Z
UID:20822-1649289600-1651449599@youngbway.org
SUMMARY:Lost in Yonkers - Hartford Stage
DESCRIPTION:TICKETS \n\n\n\n\nGabriel Amoroso\n(Caroline\, Or Change\, Harry Potter and the Cursed Child\, Medea)\nas Arty\n\n\nHayden Bercy\n(Radio City Christmas Spectacular)\nas Jay
URL:https://youngbway.org/event/lost-in-yonkers-hartford-stage/
LOCATION:Hartford Stage\, 50 Church St\, Hartford\, CT\, 06103\, United States
CATEGORIES:Regional
ATTACH;FMTTYPE=image/png:https://youngbway.org/wp-content/uploads/2022/03/lost-in-yonkers-banner.png
END:VEVENT
BEGIN:VEVENT
DTSTART;VALUE=DATE:20220416
DTEND;VALUE=DATE:20220516
DTSTAMP:20260420T134032
CREATED:20220403T172225Z
LAST-MODIFIED:20220422T172606Z
UID:20884-1650067200-1652659199@youngbway.org
SUMMARY:High School Musical Jr - Smithtown PAC
DESCRIPTION:TICKETS \n\n\n\n\nZach Podair\n(Trevor)\nas Ryan\n\n\nMax Lamberg\n(Winnie The Pooh)\nas TBA
URL:https://youngbway.org/event/high-school-musical-jr-smithtown-pac/
LOCATION:Smithtown Performing Arts Center\, 2 E Main St\, Smithtown\, NY\, 11787\, United States
CATEGORIES:Regional
ATTACH;FMTTYPE=image/jpeg:https://youngbway.org/wp-content/uploads/2022/04/high-school-musical-jr-banner-smithtown.jpg
END:VEVENT
BEGIN:VEVENT
DTSTART;VALUE=DATE:20220422
DTEND;VALUE=DATE:20220619
DTSTAMP:20260420T134032
CREATED:20220318T224626Z
LAST-MODIFIED:20220318T224626Z
UID:20818-1650585600-1655596799@youngbway.org
SUMMARY:Diary of a Wimpy Kid - Children's Theatre Company
DESCRIPTION:TICKETS \n\n\n\n\nPatrick Scott McDermott\n(Flying Over Sunset)\nas Greg Heffley
URL:https://youngbway.org/event/diary-of-a-wimpy-kid-childrens-theatre-company/
LOCATION:Children’s Theatre Company\, 2400 3rd Avenue South\, Minneapolis\, MN\, 55404\, United States
CATEGORIES:Regional
ATTACH;FMTTYPE=image/png:https://youngbway.org/wp-content/uploads/2022/03/Diary-of-a-Wimpy-Kid-Banner.png
END:VEVENT
BEGIN:VEVENT
DTSTART;VALUE=DATE:20220426
DTEND;VALUE=DATE:20220522
DTSTAMP:20260420T134032
CREATED:20220324T033852Z
LAST-MODIFIED:20220324T033852Z
UID:20853-1650931200-1653177599@youngbway.org
SUMMARY:A Walk on the Moon - George Street Playhouse
DESCRIPTION:TICKETS \n\n\n\n\nCarly Gendell\n(School of Rock)\nas Alison
URL:https://youngbway.org/event/a-walk-on-the-moon-george-street-playhouse/
LOCATION:George Street Playhouse\, 103 College Farm Road\, New Brunswick\, NJ\, 08901\, United States
CATEGORIES:Regional
ATTACH;FMTTYPE=image/png:https://youngbway.org/wp-content/uploads/2022/03/A-Walk-On-The-Moon-Banner.png
END:VEVENT
BEGIN:VEVENT
DTSTART;TZID=America/Los_Angeles:20220501T100000
DTEND;TZID=America/Los_Angeles:20220501T170000
DTSTAMP:20260420T134032
CREATED:20220403T172835Z
LAST-MODIFIED:20220403T172835Z
UID:20900-1651399200-1651424400@youngbway.org
SUMMARY:BKA May Cabaret Day
DESCRIPTION:REGISTER HERE \nRegister for Broadway Kids Auditions’ live cabaret day on May 1st! Students will first take part in a song performance workshop\, then a rehearsal and a live performance at Don’t Tell Mama in NYC! The event will be hosted by Holden Hagelberger (Trevor) and Taylor Paige Henderson (The Bedwetter\, Disney’s Hocus Pocus 2). 
URL:https://youngbway.org/event/bka-may-cabaret-day/
LOCATION:Don’t Tell Mama\, 343 W 46th St\, New York\, NY\, 10036\, United States
CATEGORIES:Calendar
ATTACH;FMTTYPE=image/png:https://youngbway.org/wp-content/uploads/2022/04/BKA-May-Cabaret-Day-Banner.png
END:VEVENT
BEGIN:VEVENT
DTSTART;TZID=America/New_York:20220501T180000
DTEND;TZID=America/New_York:20220501T203000
DTSTAMP:20260420T134032
CREATED:20220216T014139Z
LAST-MODIFIED:20220406T183329Z
UID:20531-1651428000-1651437000@youngbway.org
SUMMARY:WEDDING BAND Opening Night
DESCRIPTION:GET TICKETS
URL:https://youngbway.org/event/wedding-band-opening-night/
LOCATION:Polonsky Shakespeare Center\, 262 Ashland Place\, Brooklyn\, NY\, 11217\, United States
CATEGORIES:Calendar
ATTACH;FMTTYPE=image/jpeg:https://youngbway.org/wp-content/uploads/2022/04/wedding-band-banner-official.jpg
END:VEVENT
BEGIN:VEVENT
DTSTART;TZID=America/New_York:20220501T190000
DTEND;TZID=America/New_York:20220501T210000
DTSTAMP:20260420T134032
CREATED:20220403T172351Z
LAST-MODIFIED:20220403T172351Z
UID:20888-1651431600-1651438800@youngbway.org
SUMMARY:2022 Lucille Lortel Awards
DESCRIPTION:MORE INFO
URL:https://youngbway.org/event/2022-lucille-lortel-awards/
LOCATION:NYU Skirball Center\, 566 LaGuardia Pl\, New York\, NY\, 10012\, United States
CATEGORIES:Calendar
ATTACH;FMTTYPE=image/jpeg:https://youngbway.org/wp-content/uploads/2022/04/lucille-lortel-awards-2022-banner.jpg
END:VEVENT
END:VCALENDAR