BEGIN:VCALENDAR
VERSION:2.0
PRODID:-//Young Broadway Actor News - ECPv6.2.6//NONSGML v1.0//EN
CALSCALE:GREGORIAN
METHOD:PUBLISH
X-WR-CALNAME:Young Broadway Actor News
X-ORIGINAL-URL:https://youngbway.org
X-WR-CALDESC:Events for Young Broadway Actor News
REFRESH-INTERVAL;VALUE=DURATION:PT1H
X-Robots-Tag:noindex
X-PUBLISHED-TTL:PT1H
BEGIN:VTIMEZONE
TZID:America/Los_Angeles
BEGIN:DAYLIGHT
TZOFFSETFROM:-0800
TZOFFSETTO:-0700
TZNAME:PDT
DTSTART:20220313T100000
END:DAYLIGHT
BEGIN:STANDARD
TZOFFSETFROM:-0700
TZOFFSETTO:-0800
TZNAME:PST
DTSTART:20221106T090000
END:STANDARD
END:VTIMEZONE
BEGIN:VEVENT
DTSTART;VALUE=DATE:20220422
DTEND;VALUE=DATE:20220619
DTSTAMP:20260421T035443
CREATED:20220318T224626Z
LAST-MODIFIED:20220318T224626Z
UID:20818-1650585600-1655596799@youngbway.org
SUMMARY:Diary of a Wimpy Kid - Children's Theatre Company
DESCRIPTION:TICKETS \n\n\n\n\nPatrick Scott McDermott\n(Flying Over Sunset)\nas Greg Heffley
URL:https://youngbway.org/event/diary-of-a-wimpy-kid-childrens-theatre-company/
LOCATION:Children’s Theatre Company\, 2400 3rd Avenue South\, Minneapolis\, MN\, 55404\, United States
CATEGORIES:Regional
ATTACH;FMTTYPE=image/png:https://youngbway.org/wp-content/uploads/2022/03/Diary-of-a-Wimpy-Kid-Banner.png
END:VEVENT
BEGIN:VEVENT
DTSTART;TZID=America/Los_Angeles:20220529T150000
DTEND;TZID=America/Los_Angeles:20220529T180000
DTSTAMP:20260421T035443
CREATED:20220510T020143Z
LAST-MODIFIED:20220510T020143Z
UID:21203-1653836400-1653847200@youngbway.org
SUMMARY:THE SKIN OF OUR TEETH Closing Night
DESCRIPTION:GET TICKETS
URL:https://youngbway.org/event/the-skin-of-our-teeth-closing-night/
LOCATION:Vivian Beaumont Theater\, 150 W 65th St\, New York\, NY\, 10023\, United States
CATEGORIES:Calendar
ATTACH;FMTTYPE=image/jpeg:https://youngbway.org/wp-content/uploads/2022/04/skin-of-our-teeth-banner.jpg
END:VEVENT
BEGIN:VEVENT
DTSTART;TZID=America/Los_Angeles:20220529T193000
DTEND;TZID=America/Los_Angeles:20220529T220000
DTSTAMP:20260421T035443
CREATED:20220515T030316Z
LAST-MODIFIED:20220515T030316Z
UID:21245-1653852600-1653861600@youngbway.org
SUMMARY:MRS. DOUBTFIRE Closing Performance
DESCRIPTION:GET TICKETS
URL:https://youngbway.org/event/mrs-doubtfire-closing-performance/
LOCATION:Stephen Sondheim Theatre\, 124 W 43rd St\, New York\, NY\, 10036\, United States
CATEGORIES:Calendar
ATTACH;FMTTYPE=image/png:https://youngbway.org/wp-content/uploads/2021/05/Doubtfire-Banner.png
END:VEVENT
END:VCALENDAR