BEGIN:VCALENDAR
VERSION:2.0
PRODID:-//Young Broadway Actor News - ECPv6.2.6//NONSGML v1.0//EN
CALSCALE:GREGORIAN
METHOD:PUBLISH
X-WR-CALNAME:Young Broadway Actor News
X-ORIGINAL-URL:https://youngbway.org
X-WR-CALDESC:Events for Young Broadway Actor News
REFRESH-INTERVAL;VALUE=DURATION:PT1H
X-Robots-Tag:noindex
X-PUBLISHED-TTL:PT1H
BEGIN:VTIMEZONE
TZID:America/Los_Angeles
BEGIN:DAYLIGHT
TZOFFSETFROM:-0800
TZOFFSETTO:-0700
TZNAME:PDT
DTSTART:20180311T100000
END:DAYLIGHT
BEGIN:STANDARD
TZOFFSETFROM:-0700
TZOFFSETTO:-0800
TZNAME:PST
DTSTART:20181104T090000
END:STANDARD
END:VTIMEZONE
BEGIN:VEVENT
DTSTART;TZID=America/Los_Angeles:20180523T213000
DTEND;TZID=America/Los_Angeles:20180523T230000
DTSTAMP:20260421T134845
CREATED:20180517T191144Z
LAST-MODIFIED:20180517T191144Z
UID:10546-1527111000-1527116400@youngbway.org
SUMMARY:Rob Rokicki and The Good Kids
DESCRIPTION:GET TICKETS \nAfter numerous appearances at Feinstein’s/54 Below with the likes of Joe Iconis & Family\, Rob Rokicki\, composer and lyricist of the smash off-Broadway hit The Lightning Thief: The Percy Jackson Musical\, returns to Broadway’s Living Room with his own 54 concert debut\, Rob Rokicki and the Good Kids! \nPacked with songs from the Drama Desk-nominated The Lightning Thief and the graphic novel/rock album Monstersongs\, along with deep cuts and brand new\, never-before-heard tunes\, this is a night of rock and roll musical theatre revelry that you don’t want to miss! \nFeaturing Luca Padovan (School of Rock\, Newsies\, Marvin’s Room)! 
URL:https://youngbway.org/event/rob-rokicki-good-kids/
LOCATION:54 Below\, 254 W 54th St. Cellar\, New York\, NY\, 10019\, United States
CATEGORIES:Calendar
ATTACH;FMTTYPE=image/jpeg:https://youngbway.org/wp-content/uploads/2018/03/luca-padovan-lrg.jpg
END:VEVENT
BEGIN:VEVENT
DTSTART;TZID=America/Los_Angeles:20180523T213000
DTEND;TZID=America/Los_Angeles:20180523T230000
DTSTAMP:20260421T134845
CREATED:20180517T191144Z
LAST-MODIFIED:20180517T191144Z
UID:16190-1527111000-1527116400@youngbway.org
SUMMARY:Rob Rokicki and The Good Kids
DESCRIPTION:GET TICKETS \nAfter numerous appearances at Feinstein’s/54 Below with the likes of Joe Iconis & Family\, Rob Rokicki\, composer and lyricist of the smash off-Broadway hit The Lightning Thief: The Percy Jackson Musical\, returns to Broadway’s Living Room with his own 54 concert debut\, Rob Rokicki and the Good Kids! \nPacked with songs from the Drama Desk-nominated The Lightning Thief and the graphic novel/rock album Monstersongs\, along with deep cuts and brand new\, never-before-heard tunes\, this is a night of rock and roll musical theatre revelry that you don’t want to miss! \nFeaturing Luca Padovan (School of Rock\, Newsies\, Marvin’s Room)! 
URL:https://youngbway.org/event/rob-rokicki-good-kids-2/
LOCATION:54 Below\, 254 W 54th St. Cellar\, New York\, NY\, 10019\, United States
CATEGORIES:Calendar
ATTACH;FMTTYPE=image/jpeg:https://youngbway.org/wp-content/uploads/2018/03/luca-padovan-lrg.jpg
END:VEVENT
BEGIN:VEVENT
DTSTART;TZID=America/Los_Angeles:20180521T193000
DTEND;TZID=America/Los_Angeles:20180521T213000
DTSTAMP:20260421T134845
CREATED:20180515T185351Z
LAST-MODIFIED:20180515T185351Z
UID:10538-1526931000-1526938200@youngbway.org
SUMMARY:A BroaderWay Karaoke Benefit
DESCRIPTION:GET TICKETS \nCast members from The Lion King\, Frozen\, Spongebob\, and Hello Dolly! will compete to be crowned the “BroaderWay Karaoke Champion 2018”! \nFeaturing Brooklyn Nelson (Frozen\, Matilda)!  \n**Guests must be 18 years old or older
URL:https://youngbway.org/event/broaderway-karaoke-benefit/
LOCATION:PlayStation Theater\, 1515 Broadway\, New York\, NY\, 10036\, United States
CATEGORIES:Calendar
ATTACH;FMTTYPE=image/png:https://youngbway.org/wp-content/uploads/2018/05/broaderway-logo.png
END:VEVENT
BEGIN:VEVENT
DTSTART;TZID=America/Los_Angeles:20180521T193000
DTEND;TZID=America/Los_Angeles:20180521T213000
DTSTAMP:20260421T134845
CREATED:20180515T185351Z
LAST-MODIFIED:20180515T185351Z
UID:16189-1526931000-1526938200@youngbway.org
SUMMARY:A BroaderWay Karaoke Benefit
DESCRIPTION:GET TICKETS \nCast members from The Lion King\, Frozen\, Spongebob\, and Hello Dolly! will compete to be crowned the “BroaderWay Karaoke Champion 2018”! \nFeaturing Brooklyn Nelson (Frozen\, Matilda)!  \n**Guests must be 18 years old or older
URL:https://youngbway.org/event/broaderway-karaoke-benefit-2/
LOCATION:PlayStation Theater\, 1515 Broadway\, New York\, NY\, 10036\, United States
CATEGORIES:Calendar
ATTACH;FMTTYPE=image/png:https://youngbway.org/wp-content/uploads/2018/05/broaderway-logo.png
END:VEVENT
BEGIN:VEVENT
DTSTART;VALUE=DATE:20180521
DTEND;VALUE=DATE:20180522
DTSTAMP:20260421T134845
CREATED:20180320T135012Z
LAST-MODIFIED:20180320T135012Z
UID:10176-1526860800-1526947199@youngbway.org
SUMMARY:Obie Awards
DESCRIPTION:GET MORE INFO
URL:https://youngbway.org/event/obie-awards/
LOCATION:Terminal 5\, 610 W 56th St\, New York\, NY\, 10019\, United States
CATEGORIES:Calendar
ATTACH;FMTTYPE=image/jpeg:https://youngbway.org/wp-content/uploads/2018/03/obie-awards-logo.jpg
END:VEVENT
BEGIN:VEVENT
DTSTART;VALUE=DATE:20180521
DTEND;VALUE=DATE:20180522
DTSTAMP:20260421T134845
CREATED:20180320T135012Z
LAST-MODIFIED:20180320T135012Z
UID:16152-1526860800-1526947199@youngbway.org
SUMMARY:Obie Awards
DESCRIPTION:GET MORE INFO
URL:https://youngbway.org/event/obie-awards-2/
LOCATION:Terminal 5\, 610 W 56th St\, New York\, NY\, 10019\, United States
CATEGORIES:Calendar
ATTACH;FMTTYPE=image/jpeg:https://youngbway.org/wp-content/uploads/2018/03/obie-awards-logo.jpg
END:VEVENT
BEGIN:VEVENT
DTSTART;TZID=America/Los_Angeles:20180519T170000
DTEND;TZID=America/Los_Angeles:20180519T180000
DTSTAMP:20260421T134845
CREATED:20180509T180324Z
LAST-MODIFIED:20180509T184504Z
UID:10489-1526749200-1526752800@youngbway.org
SUMMARY:Ava Della Pietra at Rockwood Music Hall
DESCRIPTION:Join Ava Della Pietra (School of Rock) at Rockwood to celebrate her new EP! RSVP at avamusic@avadellapietra.com or (631) 675-1814. 
URL:https://youngbway.org/event/ava-della-pietra-rockwood-music-hall/
LOCATION:Rockwood Music Hall\, 196 Allen St\, New York\, NY\, 10002\, United States
CATEGORIES:Calendar
ATTACH;FMTTYPE=image/png:https://youngbway.org/wp-content/uploads/2018/05/31944058_1909696029052221_3625577319860535296_n.png
END:VEVENT
BEGIN:VEVENT
DTSTART;TZID=America/Los_Angeles:20180519T170000
DTEND;TZID=America/Los_Angeles:20180519T180000
DTSTAMP:20260421T134845
CREATED:20180509T180324Z
LAST-MODIFIED:20180509T180324Z
UID:16185-1526749200-1526752800@youngbway.org
SUMMARY:Ava Della Pietra at Rockwood Music Hall
DESCRIPTION:Join Ava Della Pietra (School of Rock) at Rockwood to celebrate her new EP! RSVP at avamusic@avadellapietra.com or (631) 675-1814. 
URL:https://youngbway.org/event/ava-della-pietra-rockwood-music-hall-2/
LOCATION:Rockwood Music Hall\, 196 Allen St\, New York\, NY\, 10002\, United States
CATEGORIES:Calendar
ATTACH;FMTTYPE=image/png:https://youngbway.org/wp-content/uploads/2018/05/31944058_1909696029052221_3625577319860535296_n.png
END:VEVENT
BEGIN:VEVENT
DTSTART;TZID=America/Los_Angeles:20180519T090000
DTEND;TZID=America/Los_Angeles:20180519T180000
DTSTAMP:20260421T134845
CREATED:20180428T060742Z
LAST-MODIFIED:20180428T060742Z
UID:10412-1526720400-1526752800@youngbway.org
SUMMARY:SCHOOL OF ROCK Open Casting Call
DESCRIPTION:
URL:https://youngbway.org/event/school-rock-open-casting-call/
LOCATION:Pearl Studios\, 500 8th Avenue\, New York\, NY\, 10018\, United States
CATEGORIES:Calendar
ATTACH;FMTTYPE=image/png:https://youngbway.org/wp-content/uploads/2016/09/schoolofrock.png
END:VEVENT
BEGIN:VEVENT
DTSTART;TZID=America/Los_Angeles:20180519T090000
DTEND;TZID=America/Los_Angeles:20180519T180000
DTSTAMP:20260421T134845
CREATED:20180428T060742Z
LAST-MODIFIED:20180428T060742Z
UID:16173-1526720400-1526752800@youngbway.org
SUMMARY:SCHOOL OF ROCK Open Casting Call
DESCRIPTION:
URL:https://youngbway.org/event/school-rock-open-casting-call-2/
LOCATION:Pearl Studios\, 500 8th Avenue\, New York\, NY\, 10018\, United States
CATEGORIES:Calendar
ATTACH;FMTTYPE=image/png:https://youngbway.org/wp-content/uploads/2016/09/schoolofrock.png
END:VEVENT
BEGIN:VEVENT
DTSTART;VALUE=DATE:20180518
DTEND;VALUE=DATE:20180528
DTSTAMP:20260421T134846
CREATED:20180322T044909Z
LAST-MODIFIED:20180502T230516Z
UID:10197-1526601600-1527465599@youngbway.org
SUMMARY:Ragtime - Kidz Theater
DESCRIPTION:TICKETS \n\n\n\n\n\n\nErica Simone Barnett\n(Matilda)\nHarlem Ensemble\n(Female Pas De Deux Dancer)
URL:https://youngbway.org/event/ragtime-kidz-theater/
LOCATION:Connelly Theater\, 220 E 4th Street\, New York\, NY\, 10039\, United States
CATEGORIES:Regional
ATTACH;FMTTYPE=image/png:https://youngbway.org/wp-content/uploads/2018/03/ragtime-banner.png
END:VEVENT
BEGIN:VEVENT
DTSTART;VALUE=DATE:20180518
DTEND;VALUE=DATE:20180528
DTSTAMP:20260421T134846
CREATED:20180322T044909Z
LAST-MODIFIED:20180322T044909Z
UID:16155-1526601600-1527465599@youngbway.org
SUMMARY:Ragtime - Kidz Theater
DESCRIPTION:TICKETS \n\n\n\n\n\n\nErica Simone Barnett\n(Matilda)\nHarlem Ensemble\n(Female Pas De Deux Dancer)
URL:https://youngbway.org/event/ragtime-kidz-theater-2/
LOCATION:Connelly Theater\, 220 E 4th Street\, New York\, NY\, 10039\, United States
CATEGORIES:Regional
ATTACH;FMTTYPE=image/png:https://youngbway.org/wp-content/uploads/2018/03/ragtime-banner.png
END:VEVENT
BEGIN:VEVENT
DTSTART;VALUE=DATE:20180518
DTEND;VALUE=DATE:20180519
DTSTAMP:20260421T134846
CREATED:20180320T134642Z
LAST-MODIFIED:20180419T172713Z
UID:10168-1526601600-1526687999@youngbway.org
SUMMARY:Drama League Awards
DESCRIPTION:Nominations\nAnimal\n-Outstanding Production of a Broadway or Off Broadway Play\n-Distinguished Performance Award \nFrozen\n-Outstanding Production of a Broadway of Off Broadway Musical\n-Distinguished Performance Award (2) \nHarry Potter and the Cursed Child: Parts One and Two\n-Outstanding Production of a Broadway or Off Broadway Play\n-Distinguished Performance Award (2) \nOnce On This Island\n-Outstanding Revival of a Broadway or Off Broadway Musical\n-Distinguished Performance Award (2) \nGet a full list of nominations at DramaLeague.org.
URL:https://youngbway.org/event/drama-league-awards/
LOCATION:Marriott Marquis Times Square\, 1535 Broadway\, New York\, NY\, 10036\, United States
CATEGORIES:Calendar
ATTACH;FMTTYPE=image/png:https://youngbway.org/wp-content/uploads/2018/03/drama-league-awards-logo.png
END:VEVENT
BEGIN:VEVENT
DTSTART;VALUE=DATE:20180518
DTEND;VALUE=DATE:20180519
DTSTAMP:20260421T134846
CREATED:20180320T134642Z
LAST-MODIFIED:20180320T134642Z
UID:16149-1526601600-1526687999@youngbway.org
SUMMARY:Drama League Awards
DESCRIPTION:Nominations\nAnimal\n-Outstanding Production of a Broadway or Off Broadway Play\n-Distinguished Performance Award \nFrozen\n-Outstanding Production of a Broadway of Off Broadway Musical\n-Distinguished Performance Award (2) \nHarry Potter and the Cursed Child: Parts One and Two\n-Outstanding Production of a Broadway or Off Broadway Play\n-Distinguished Performance Award (2) \nOnce On This Island\n-Outstanding Revival of a Broadway or Off Broadway Musical\n-Distinguished Performance Award (2) \nGet a full list of nominations at DramaLeague.org.
URL:https://youngbway.org/event/drama-league-awards-3/
LOCATION:Marriott Marquis Times Square\, 1535 Broadway\, New York\, NY\, 10036\, United States
CATEGORIES:Calendar
ATTACH;FMTTYPE=image/png:https://youngbway.org/wp-content/uploads/2018/03/drama-league-awards-logo.png
END:VEVENT
BEGIN:VEVENT
DTSTART;VALUE=DATE:20180515
DTEND;VALUE=DATE:20180516
DTSTAMP:20260421T134846
CREATED:20180403T121043Z
LAST-MODIFIED:20180403T121043Z
UID:16162-1526342400-1526428799@youngbway.org
SUMMARY:"Landing Up" Film Release
DESCRIPTION:Featuring Grace Capeless (Matilda\, The Lion King\, A Christmas Story\, Godspell Cast of 2032)! \nWhen a young woman finds herself living life on the streets she learns the art of manipulating strangers to put a roof over her head. But when she meets the guy of her dreams her secret threatens to ruin their perfect relationship.
URL:https://youngbway.org/event/landing-film-release-2/
LOCATION:Digital\, On-Demand\, and DVD
CATEGORIES:Calendar
ATTACH;FMTTYPE=image/jpeg:https://youngbway.org/wp-content/uploads/2018/04/landing-up.jpg
END:VEVENT
BEGIN:VEVENT
DTSTART;VALUE=DATE:20180515
DTEND;VALUE=DATE:20180516
DTSTAMP:20260421T134846
CREATED:20180403T121043Z
LAST-MODIFIED:20180403T121043Z
UID:10287-1526342400-1526428799@youngbway.org
SUMMARY:"Landing Up" Film Release
DESCRIPTION:Featuring Grace Capeless (Matilda\, The Lion King\, A Christmas Story\, Godspell Cast of 2032)! \nWhen a young woman finds herself living life on the streets she learns the art of manipulating strangers to put a roof over her head. But when she meets the guy of her dreams her secret threatens to ruin their perfect relationship.
URL:https://youngbway.org/event/landing-film-release/
LOCATION:Digital\, On-Demand\, and DVD
CATEGORIES:Calendar
ATTACH;FMTTYPE=image/jpeg:https://youngbway.org/wp-content/uploads/2018/04/landing-up.jpg
END:VEVENT
BEGIN:VEVENT
DTSTART;TZID=America/Los_Angeles:20180513T190000
DTEND;TZID=America/Los_Angeles:20180513T213000
DTSTAMP:20260421T134846
CREATED:20180508T175843Z
LAST-MODIFIED:20180508T175843Z
UID:10485-1526238000-1526247000@youngbway.org
SUMMARY:Sophia Kekllas's Final SCHOOL OF ROCK Performance
DESCRIPTION:GET TICKETS
URL:https://youngbway.org/event/sophia-kekllass-final-school-rock-performance/
LOCATION:Winter Garden Theater\, 1634 Broadway\, New York\, NY\, 10019\, United States
CATEGORIES:Calendar
ATTACH;FMTTYPE=image/png:https://youngbway.org/wp-content/uploads/2016/09/schoolofrock.png
END:VEVENT
BEGIN:VEVENT
DTSTART;TZID=America/Los_Angeles:20180513T190000
DTEND;TZID=America/Los_Angeles:20180513T213000
DTSTAMP:20260421T134846
CREATED:20180508T175843Z
LAST-MODIFIED:20180508T175843Z
UID:16184-1526238000-1526247000@youngbway.org
SUMMARY:Sophia Kekllas's Final SCHOOL OF ROCK Performance
DESCRIPTION:GET TICKETS
URL:https://youngbway.org/event/sophia-kekllass-final-school-rock-performance-2/
LOCATION:Winter Garden Theater\, 1634 Broadway\, New York\, NY\, 10019\, United States
CATEGORIES:Calendar
ATTACH;FMTTYPE=image/png:https://youngbway.org/wp-content/uploads/2016/09/schoolofrock.png
END:VEVENT
BEGIN:VEVENT
DTSTART;VALUE=DATE:20180511
DTEND;VALUE=DATE:20180512
DTSTAMP:20260421T134846
CREATED:20180502T020901Z
LAST-MODIFIED:20180502T020901Z
UID:10433-1525996800-1526083199@youngbway.org
SUMMARY:FROZEN Cast Album Digital Release
DESCRIPTION:Get a glimpse at the cast album recording sessions below!
URL:https://youngbway.org/event/frozen-cast-album-digital-release/
LOCATION:Everywhere
CATEGORIES:Calendar
ATTACH;FMTTYPE=image/jpeg:https://youngbway.org/wp-content/uploads/2017/08/frozen-banner.jpg
END:VEVENT
BEGIN:VEVENT
DTSTART;VALUE=DATE:20180511
DTEND;VALUE=DATE:20180512
DTSTAMP:20260421T134846
CREATED:20180502T020901Z
LAST-MODIFIED:20180502T020901Z
UID:16176-1525996800-1526083199@youngbway.org
SUMMARY:FROZEN Cast Album Digital Release
DESCRIPTION:Get a glimpse at the cast album recording sessions below!
URL:https://youngbway.org/event/frozen-cast-album-digital-release-2/
LOCATION:Everywhere
CATEGORIES:Calendar
ATTACH;FMTTYPE=image/jpeg:https://youngbway.org/wp-content/uploads/2017/08/frozen-banner.jpg
END:VEVENT
BEGIN:VEVENT
DTSTART;VALUE=DATE:20180511
DTEND;VALUE=DATE:20180512
DTSTAMP:20260421T134846
CREATED:20180426T190855Z
LAST-MODIFIED:20180426T190855Z
UID:10402-1525996800-1526083199@youngbway.org
SUMMARY:THE WHO WAS? SHOW Premiere
DESCRIPTION:Lilla Crawford (Annie\, Billy Elliot) stars in this brand new sketch comedy show based on historical events.
URL:https://youngbway.org/event/the-who-was-show-premiere/
LOCATION:Netflix
CATEGORIES:Calendar
ATTACH;FMTTYPE=image/png:https://youngbway.org/wp-content/uploads/2018/04/the-who-was-show.png
END:VEVENT
BEGIN:VEVENT
DTSTART;VALUE=DATE:20180511
DTEND;VALUE=DATE:20180512
DTSTAMP:20260421T134846
CREATED:20180426T190855Z
LAST-MODIFIED:20180426T190855Z
UID:16172-1525996800-1526083199@youngbway.org
SUMMARY:THE WHO WAS? SHOW Premiere
DESCRIPTION:Lilla Crawford (Annie\, Billy Elliot) stars in this brand new sketch comedy show based on historical events.
URL:https://youngbway.org/event/the-who-was-show-premiere-2/
LOCATION:Netflix
CATEGORIES:Calendar
ATTACH;FMTTYPE=image/png:https://youngbway.org/wp-content/uploads/2018/04/the-who-was-show.png
END:VEVENT
BEGIN:VEVENT
DTSTART;TZID=America/Los_Angeles:20180507T213000
DTEND;TZID=America/Los_Angeles:20180507T230000
DTSTAMP:20260421T134846
CREATED:20180329T201814Z
LAST-MODIFIED:20180329T201814Z
UID:10258-1525728600-1525734000@youngbway.org
SUMMARY:Another Opening\, Another Debut! Broadway Debuts of the 2017-2018 Season
DESCRIPTION:Ayla Schwartz (Frozen) will celebrate her Broadway debut alongside stars from Once On This Island\, The Band’s Visit\, Spongebob Squarepants\, and more in this 54 Below concert!  \nGET TICKETS
URL:https://youngbway.org/event/another-opening-another-debut-broadway-debuts-2017-2018-season/
LOCATION:54 Below\, 254 W 54th St. Cellar\, New York\, NY\, 10019\, United States
CATEGORIES:Calendar
ATTACH;FMTTYPE=image/png:https://youngbway.org/wp-content/uploads/2018/03/Debuts-1024x576.png
END:VEVENT
BEGIN:VEVENT
DTSTART;TZID=America/Los_Angeles:20180507T213000
DTEND;TZID=America/Los_Angeles:20180507T230000
DTSTAMP:20260421T134846
CREATED:20180329T201814Z
LAST-MODIFIED:20180329T201814Z
UID:16159-1525728600-1525734000@youngbway.org
SUMMARY:Another Opening\, Another Debut! Broadway Debuts of the 2017-2018 Season
DESCRIPTION:Ayla Schwartz (Frozen) will celebrate her Broadway debut alongside stars from Once On This Island\, The Band’s Visit\, Spongebob Squarepants\, and more in this 54 Below concert!  \nGET TICKETS
URL:https://youngbway.org/event/another-opening-another-debut-broadway-debuts-2017-2018-season-2/
LOCATION:54 Below\, 254 W 54th St. Cellar\, New York\, NY\, 10019\, United States
CATEGORIES:Calendar
ATTACH;FMTTYPE=image/png:https://youngbway.org/wp-content/uploads/2018/03/Debuts-1024x576.png
END:VEVENT
BEGIN:VEVENT
DTSTART;VALUE=DATE:20180507
DTEND;VALUE=DATE:20180508
DTSTAMP:20260421T134846
CREATED:20180320T134348Z
LAST-MODIFIED:20180425T201546Z
UID:10163-1525651200-1525737599@youngbway.org
SUMMARY:Outer Critics Circle Awards Winners Announcement
DESCRIPTION:GET MORE INFO \nHere’s a list of our featured shows and their OCC nominations!  \n1984 \n\nOutstanding Projection Design\n\nFrozen \n\nOutstanding New Broadway Musical\nOutstanding New Score\nOutstanding Projection Design\nOutstanding Actress in a Musical\n\nHarry Potter and the Cursed Child \n\nOutstanding New Broadway Play\nOutstanding New Score\nOutstanding Director of a Play\nOutstanding Choreographer\nOutstanding Set Design\nOutstanding Costume Design\nOutstanding Lighting Design\nOutstanding Projection Design\nOutstanding Sound Design\nOutstanding Featured Actor in a Play\n\nOnce On This Island \n\nOutstanding Revival of a Musical\nOutstanding Director of a Musical\nOutstanding Choreographer\nOutstanding Costume Design\nOutstanding Orchestrations\nOutstanding Actress in a Musical
URL:https://youngbway.org/event/outer-critics-circle-awards-winners-announcement/
LOCATION:TBA
CATEGORIES:Calendar
ATTACH;FMTTYPE=image/jpeg:https://youngbway.org/wp-content/uploads/2018/03/outer-critics-circle-logo.jpg
END:VEVENT
BEGIN:VEVENT
DTSTART;VALUE=DATE:20180507
DTEND;VALUE=DATE:20180508
DTSTAMP:20260421T134846
CREATED:20180320T134348Z
LAST-MODIFIED:20180320T134348Z
UID:16147-1525651200-1525737599@youngbway.org
SUMMARY:Outer Critics Circle Awards Winners Announcement
DESCRIPTION:GET MORE INFO \nHere’s a list of our featured shows and their OCC nominations!  \n1984 \n\nOutstanding Projection Design\n\nFrozen \n\nOutstanding New Broadway Musical\nOutstanding New Score\nOutstanding Projection Design\nOutstanding Actress in a Musical\n\nHarry Potter and the Cursed Child \n\nOutstanding New Broadway Play\nOutstanding New Score\nOutstanding Director of a Play\nOutstanding Choreographer\nOutstanding Set Design\nOutstanding Costume Design\nOutstanding Lighting Design\nOutstanding Projection Design\nOutstanding Sound Design\nOutstanding Featured Actor in a Play\n\nOnce On This Island \n\nOutstanding Revival of a Musical\nOutstanding Director of a Musical\nOutstanding Choreographer\nOutstanding Costume Design\nOutstanding Orchestrations\nOutstanding Actress in a Musical
URL:https://youngbway.org/event/outer-critics-circle-awards-winners-announcement-2/
LOCATION:TBA
CATEGORIES:Calendar
ATTACH;FMTTYPE=image/jpeg:https://youngbway.org/wp-content/uploads/2018/03/outer-critics-circle-logo.jpg
END:VEVENT
BEGIN:VEVENT
DTSTART;TZID=America/Los_Angeles:20180506T190000
DTEND;TZID=America/Los_Angeles:20180506T210000
DTSTAMP:20260421T134846
CREATED:20180320T134903Z
LAST-MODIFIED:20180320T134903Z
UID:10173-1525633200-1525640400@youngbway.org
SUMMARY:Lucille Lortel Awards
DESCRIPTION:GET MORE INFO
URL:https://youngbway.org/event/lucille-lortel-awards/
LOCATION:Skirball Center\, 566 LaGuardia Pl\, New York\, NY\, 10012\, United States
CATEGORIES:Calendar
ATTACH;FMTTYPE=image/jpeg:https://youngbway.org/wp-content/uploads/2018/03/lucille-lortel-awards-logo.jpg
END:VEVENT
BEGIN:VEVENT
DTSTART;TZID=America/Los_Angeles:20180506T190000
DTEND;TZID=America/Los_Angeles:20180506T210000
DTSTAMP:20260421T134846
CREATED:20180320T134903Z
LAST-MODIFIED:20180320T134903Z
UID:16151-1525633200-1525640400@youngbway.org
SUMMARY:Lucille Lortel Awards
DESCRIPTION:GET MORE INFO
URL:https://youngbway.org/event/lucille-lortel-awards-3/
LOCATION:Skirball Center\, 566 LaGuardia Pl\, New York\, NY\, 10012\, United States
CATEGORIES:Calendar
ATTACH;FMTTYPE=image/jpeg:https://youngbway.org/wp-content/uploads/2018/03/lucille-lortel-awards-logo.jpg
END:VEVENT
BEGIN:VEVENT
DTSTART;TZID=America/Los_Angeles:20180506T100000
DTEND;TZID=America/Los_Angeles:20180506T180000
DTSTAMP:20260421T134846
CREATED:20180410T120401Z
LAST-MODIFIED:20180505T170526Z
UID:10331-1525600800-1525629600@youngbway.org
SUMMARY:Tunes in Times Square
DESCRIPTION:Lineup Includes:\nAudrey Bennett (Frozen\, Amelie)\nAshley Brooke (Doctor Zhivago\, Dream Street)\nChristian Michael Camporin (Finding Neverland\, Matilda)\nWill Coombs (Harry Potter and the Cursed Child\, A Bronx Tale)\nSamantha Blaire Cutler (Billy Elliot tour)\nEmerson Davis (Once On This Island)\nJesús Del Orden (Kinky Boots)\nAva Della Pietra (School of Rock)\nAlex Dreier (Finding Neverland\, The Assembled Parties\, Billy Elliot)\nCate Elefante (Waitress)\nAidan Gemme (Runaways\, You’re A Good Man Charlie Brown\, Finding Neverland\, Waiting for Godot\, Mary Poppins)\nGabrielle Greene (School of Rock)\nJackson Demott Hill (Finding Neverland)\nNoah Hinsdale (Finding Neverland\, Fun Home)\nJim Kaplan (School of Rock\, The King and I)\nJake Katzman (Kinky Boots)\nChristie Kim (The King and I)\nMadison Elizabeth Lagares (School of Rock\, On Your Feet)\nHudson Loverro (A Bronx Tale)\nJack McCarthy (Shadowlands\, Finding Neverland)\nBrooklyn Nelson (Frozen\, Matilda)\nMadeleine Pace (Once)\nDelilah Rose Pellow (Anastasia)\nEllie Poon (A Christmas Story tour)\nSam Poon (Runaways\, The King and I\, Macbeth)\nWilliam Poon (The King and I)\nJulianna Rigoglioso (Mary Poppins tour)\nNicole Scimeca (Anastasia)\nDemi Singleton (The Lion King\, School of Rock)\nLevi Smith (A Bronx Tale)\nEli Tokash (Finding Neverland\, Pippin)\nMckayla Twiggs (Anastasia\, Les Miserables\, Once)\nAnnabelle Wachtel (School of Rock)\nTimothy Yang (The King and I) \nMagical Music for Life Foundation is thrilled to present its 7th annual TUNES IN TIMES SQUARE benefit concert Sunday\, May 6\, 2018 on Broadway between 46th & 47th Streets in Times Square. In keeping with our mission to better the lives of children through the use of music\, the purpose of this concert is to introduce our free water safety album songs\, foster awareness of our music and touring shows for children\, and to raise financial support for our ongoing outreach and production of free music for children with autism and special needs. \nThe event will be a continuous sing-a-thon\, where preselected\, talented children and groups from the tri-state area will join the Magical Music singing groups taking turns singing from 10:00 a.m. – 6:00 p.m. raising money from pledges and donations. There will be performances by over 60 Broadway adult and child actors\, as well as performances from select Magical Music musicals. \nAt the event there will be many exciting items in the auction & raffle\, including tickets to Broadway shows / other events many with backstage tours and signed memorabilia\, travel\, dining\, unique & autographed items\, etc. TUNES shirts will be available. Donations will be gladly accepted at TUNES IN TIMES SQUARE or www.magicalmusic.org. \nSchedule\n1:30-1:45pm – Cate Elefante
URL:https://youngbway.org/event/tunes-times-square/
LOCATION:Broadway Pedestrian Plaza
CATEGORIES:Calendar
ATTACH;FMTTYPE=image/png:https://youngbway.org/wp-content/uploads/2018/04/tunes-in-times-square.png
END:VEVENT
BEGIN:VEVENT
DTSTART;TZID=America/Los_Angeles:20180506T100000
DTEND;TZID=America/Los_Angeles:20180506T180000
DTSTAMP:20260421T134846
CREATED:20180410T120401Z
LAST-MODIFIED:20180410T120401Z
UID:16168-1525600800-1525629600@youngbway.org
SUMMARY:Tunes in Times Square
DESCRIPTION:Lineup Includes:\nAudrey Bennett (Frozen\, Amelie)\nAshley Brooke (Doctor Zhivago\, Dream Street)\nChristian Michael Camporin (Finding Neverland\, Matilda)\nWill Coombs (Harry Potter and the Cursed Child\, A Bronx Tale)\nSamantha Blaire Cutler (Billy Elliot tour)\nEmerson Davis (Once On This Island)\nJesús Del Orden (Kinky Boots)\nAva Della Pietra (School of Rock)\nAlex Dreier (Finding Neverland\, The Assembled Parties\, Billy Elliot)\nCate Elefante (Waitress)\nAidan Gemme (Runaways\, You’re A Good Man Charlie Brown\, Finding Neverland\, Waiting for Godot\, Mary Poppins)\nGabrielle Greene (School of Rock)\nJackson Demott Hill (Finding Neverland)\nNoah Hinsdale (Finding Neverland\, Fun Home)\nJim Kaplan (School of Rock\, The King and I)\nJake Katzman (Kinky Boots)\nChristie Kim (The King and I)\nMadison Elizabeth Lagares (School of Rock\, On Your Feet)\nHudson Loverro (A Bronx Tale)\nJack McCarthy (Shadowlands\, Finding Neverland)\nBrooklyn Nelson (Frozen\, Matilda)\nMadeleine Pace (Once)\nDelilah Rose Pellow (Anastasia)\nEllie Poon (A Christmas Story tour)\nSam Poon (Runaways\, The King and I\, Macbeth)\nWilliam Poon (The King and I)\nJulianna Rigoglioso (Mary Poppins tour)\nNicole Scimeca (Anastasia)\nDemi Singleton (The Lion King\, School of Rock)\nLevi Smith (A Bronx Tale)\nEli Tokash (Finding Neverland\, Pippin)\nMckayla Twiggs (Anastasia\, Les Miserables\, Once)\nAnnabelle Wachtel (School of Rock)\nTimothy Yang (The King and I) \nMagical Music for Life Foundation is thrilled to present its 7th annual TUNES IN TIMES SQUARE benefit concert Sunday\, May 6\, 2018 on Broadway between 46th & 47th Streets in Times Square. In keeping with our mission to better the lives of children through the use of music\, the purpose of this concert is to introduce our free water safety album songs\, foster awareness of our music and touring shows for children\, and to raise financial support for our ongoing outreach and production of free music for children with autism and special needs. \nThe event will be a continuous sing-a-thon\, where preselected\, talented children and groups from the tri-state area will join the Magical Music singing groups taking turns singing from 10:00 a.m. – 6:00 p.m. raising money from pledges and donations. There will be performances by over 60 Broadway adult and child actors\, as well as performances from select Magical Music musicals. \nAt the event there will be many exciting items in the auction & raffle\, including tickets to Broadway shows / other events many with backstage tours and signed memorabilia\, travel\, dining\, unique & autographed items\, etc. TUNES shirts will be available. Donations will be gladly accepted at TUNES IN TIMES SQUARE or www.magicalmusic.org. \nSchedule\n1:30-1:45pm – Cate Elefante
URL:https://youngbway.org/event/tunes-times-square-2/
LOCATION:Broadway Pedestrian Plaza
CATEGORIES:Calendar
ATTACH;FMTTYPE=image/png:https://youngbway.org/wp-content/uploads/2018/04/tunes-in-times-square.png
END:VEVENT
END:VCALENDAR