BEGIN:VCALENDAR
VERSION:2.0
PRODID:-//Young Broadway Actor News - ECPv6.2.6//NONSGML v1.0//EN
CALSCALE:GREGORIAN
METHOD:PUBLISH
X-WR-CALNAME:Young Broadway Actor News
X-ORIGINAL-URL:https://youngbway.org
X-WR-CALDESC:Events for Young Broadway Actor News
REFRESH-INTERVAL;VALUE=DURATION:PT1H
X-Robots-Tag:noindex
X-PUBLISHED-TTL:PT1H
BEGIN:VTIMEZONE
TZID:America/Los_Angeles
BEGIN:DAYLIGHT
TZOFFSETFROM:-0800
TZOFFSETTO:-0700
TZNAME:PDT
DTSTART:20180311T100000
END:DAYLIGHT
BEGIN:STANDARD
TZOFFSETFROM:-0700
TZOFFSETTO:-0800
TZNAME:PST
DTSTART:20181104T090000
END:STANDARD
END:VTIMEZONE
BEGIN:VEVENT
DTSTART;VALUE=DATE:20180316
DTEND;VALUE=DATE:20180325
DTSTAMP:20260422T153226
CREATED:20180320T041204Z
LAST-MODIFIED:20180320T041204Z
UID:10143-1521158400-1521935999@youngbway.org
SUMMARY:Curtains - Trumbull High School
DESCRIPTION:TICKETS \n\n\n\n\n\n\nRachel Arianna\n(Number the Stars)\nas Niki Harris
URL:https://youngbway.org/event/curtains-trumbull-high-school/
LOCATION:Trumbull High School\, 72 Strobel Rd\, Trumbull\, CT\, 06611\, United States
CATEGORIES:Regional
ATTACH;FMTTYPE=image/jpeg:https://youngbway.org/wp-content/uploads/2018/03/curtains-trumbull.jpg
END:VEVENT
BEGIN:VEVENT
DTSTART;VALUE=DATE:20180316
DTEND;VALUE=DATE:20180325
DTSTAMP:20260422T153226
CREATED:20180320T041204Z
LAST-MODIFIED:20180320T041204Z
UID:16141-1521158400-1521935999@youngbway.org
SUMMARY:Curtains - Trumbull High School
DESCRIPTION:TICKETS \n\n\n\n\n\n\nRachel Arianna\n(Number the Stars)\nas Niki Harris
URL:https://youngbway.org/event/curtains-trumbull-high-school-2/
LOCATION:Trumbull High School\, 72 Strobel Rd\, Trumbull\, CT\, 06611\, United States
CATEGORIES:Regional
ATTACH;FMTTYPE=image/jpeg:https://youngbway.org/wp-content/uploads/2018/03/curtains-trumbull.jpg
END:VEVENT
BEGIN:VEVENT
DTSTART;VALUE=DATE:20180315
DTEND;VALUE=DATE:20180319
DTSTAMP:20260422T153226
CREATED:20180122T225250Z
LAST-MODIFIED:20180122T225421Z
UID:9773-1521072000-1521417599@youngbway.org
SUMMARY:The Little Mermaid - Y Arts Theatre Company
DESCRIPTION:TICKETS \n\n\n\n\n\n\nSam Chuck\n(Les Miserables)\nas Flounder
URL:https://youngbway.org/event/little-mermaid-y-arts-theatre-company/
LOCATION:Wyckoff Family YMCA\, 691 Wyckoff Avenue\, Wyckoff\, NJ\, 07481\, United States
CATEGORIES:Regional
ATTACH;FMTTYPE=image/jpeg:https://youngbway.org/wp-content/uploads/2018/01/samchuckactor_22_1_2018_12_57_8_824.jpg
END:VEVENT
BEGIN:VEVENT
DTSTART;VALUE=DATE:20180315
DTEND;VALUE=DATE:20180319
DTSTAMP:20260422T153226
CREATED:20180122T225250Z
LAST-MODIFIED:20180122T225250Z
UID:16103-1521072000-1521417599@youngbway.org
SUMMARY:The Little Mermaid - Y Arts Theatre Company
DESCRIPTION:TICKETS \n\n\n\n\n\n\nSam Chuck\n(Les Miserables)\nas Flounder
URL:https://youngbway.org/event/little-mermaid-y-arts-theatre-company-2/
LOCATION:Wyckoff Family YMCA\, 691 Wyckoff Avenue\, Wyckoff\, NJ\, 07481\, United States
CATEGORIES:Regional
ATTACH;FMTTYPE=image/jpeg:https://youngbway.org/wp-content/uploads/2018/01/samchuckactor_22_1_2018_12_57_8_824.jpg
END:VEVENT
BEGIN:VEVENT
DTSTART;VALUE=DATE:20180314
DTEND;VALUE=DATE:20180318
DTSTAMP:20260422T153226
CREATED:20180301T170847Z
LAST-MODIFIED:20180301T171052Z
UID:10008-1520985600-1521331199@youngbway.org
SUMMARY:West Side Story - PPAS Theater
DESCRIPTION:TICKETS \n\n\n\n\n\n\nChristina Jimenez\n(Runaways)\nas Anita\n\n\n\n\n\n\nMax Cabral\n(Runaways)\nas Chino\n\n\n\n\n\n\nKenny Cabral\n(Runaways)\nas Juano\n\n\n\n\n\n\n\n\nErica Simone Barnett\n(Matilda)\nEnsemble\n\n\n\n\n\n\nLeonay Shepherd\n(Little Miss Sunshine)\nEnsemble
URL:https://youngbway.org/event/west-side-story-ppas-theater/
LOCATION:PPAS Theater\, 328 W. 48th St\, New York\, NY\, 10036\, United States
CATEGORIES:Regional
ATTACH;FMTTYPE=image/png:https://youngbway.org/wp-content/uploads/2018/02/ppas-wss.png
END:VEVENT
BEGIN:VEVENT
DTSTART;TZID=America/Los_Angeles:20180313T220000
DTEND;TZID=America/Los_Angeles:20180313T230000
DTSTAMP:20260422T153226
CREATED:20171120T183920Z
LAST-MODIFIED:20171120T183920Z
UID:9351-1520978400-1520982000@youngbway.org
SUMMARY:"Rise" Series Premiere
DESCRIPTION:Featuring Brett Gray (Radio City Christmas Spectacular)\, Taylor Richardson (Annie\, A Christmas Memory\, Smokefall)\, and Brooklyn Shuck (Matilda\, Annie\, Les Miserables\, Tuck Everlasting)\, “Rise” is a drama about a man who takes over a less-than-steller high school theatre department\, inspiring a community in the process.
URL:https://youngbway.org/event/rise-series-premiere/
LOCATION:NBC
CATEGORIES:Calendar
ATTACH;FMTTYPE=image/jpeg:https://youngbway.org/wp-content/uploads/2017/11/2017-0514-RISE-NBCUXD-responsive-ABOUT-1920x1080.jpg
END:VEVENT
BEGIN:VEVENT
DTSTART;TZID=America/Los_Angeles:20180313T220000
DTEND;TZID=America/Los_Angeles:20180313T230000
DTSTAMP:20260422T153226
CREATED:20171120T183920Z
LAST-MODIFIED:20171120T183920Z
UID:16064-1520978400-1520982000@youngbway.org
SUMMARY:"Rise" Series Premiere
DESCRIPTION:Featuring Brett Gray (Radio City Christmas Spectacular)\, Taylor Richardson (Annie\, A Christmas Memory\, Smokefall)\, and Brooklyn Shuck (Matilda\, Annie\, Les Miserables\, Tuck Everlasting)\, “Rise” is a drama about a man who takes over a less-than-steller high school theatre department\, inspiring a community in the process.
URL:https://youngbway.org/event/rise-series-premiere-2/
LOCATION:NBC
CATEGORIES:Calendar
ATTACH;FMTTYPE=image/jpeg:https://youngbway.org/wp-content/uploads/2017/11/2017-0514-RISE-NBCUXD-responsive-ABOUT-1920x1080.jpg
END:VEVENT
BEGIN:VEVENT
DTSTART;TZID=America/Los_Angeles:20180313T190000
DTEND;TZID=America/Los_Angeles:20180313T213000
DTSTAMP:20260422T153226
CREATED:20170922T182816Z
LAST-MODIFIED:20171109T191015Z
UID:8945-1520967600-1520976600@youngbway.org
SUMMARY:THE WINTER'S TALE First Performance
DESCRIPTION:GET TICKETS
URL:https://youngbway.org/event/winters-tale-first-performance/
LOCATION:Polonsky Shakespeare Center\, 262 Ashland Place\, Brooklyn\, NY\, 11217\, United States
CATEGORIES:Calendar
ATTACH;FMTTYPE=image/png:https://youngbway.org/wp-content/uploads/2017/09/Winter_Showpages-1.png
END:VEVENT
BEGIN:VEVENT
DTSTART;TZID=America/Los_Angeles:20180313T190000
DTEND;TZID=America/Los_Angeles:20180313T213000
DTSTAMP:20260422T153226
CREATED:20170922T182816Z
LAST-MODIFIED:20170922T182816Z
UID:16035-1520967600-1520976600@youngbway.org
SUMMARY:THE WINTER'S TALE First Performance
DESCRIPTION:GET TICKETS
URL:https://youngbway.org/event/winters-tale-first-performance-2/
LOCATION:Polonsky Shakespeare Center\, 262 Ashland Place\, Brooklyn\, NY\, 11217\, United States
CATEGORIES:Calendar
ATTACH;FMTTYPE=image/png:https://youngbway.org/wp-content/uploads/2017/09/Winter_Showpages-1.png
END:VEVENT
BEGIN:VEVENT
DTSTART;TZID=America/Los_Angeles:20180310T200000
DTEND;TZID=America/Los_Angeles:20180310T223000
DTSTAMP:20260422T153226
CREATED:20180306T201653Z
LAST-MODIFIED:20180306T201653Z
UID:10062-1520712000-1520721000@youngbway.org
SUMMARY:"Hair" 50th Anniversary Concert
DESCRIPTION:Emerson Steele (Violet) plays Crissy in the special “Hair” concert in honor of the show’s 50th anniversary! \nGET TICKETS
URL:https://youngbway.org/event/hair-50th-anniversary-concert-2/
LOCATION:Patchogue Theatre\, 71 East Main St\, Patchogue\, NY\, 11772\, United States
CATEGORIES:Calendar
ATTACH;FMTTYPE=image/jpeg:https://youngbway.org/wp-content/uploads/2018/03/hair-50.jpg
END:VEVENT
BEGIN:VEVENT
DTSTART;TZID=America/Los_Angeles:20180310T200000
DTEND;TZID=America/Los_Angeles:20180310T223000
DTSTAMP:20260422T153226
CREATED:20180306T201653Z
LAST-MODIFIED:20180306T201653Z
UID:16130-1520712000-1520721000@youngbway.org
SUMMARY:"Hair" 50th Anniversary Concert
DESCRIPTION:Emerson Steele (Violet) plays Crissy in the special “Hair” concert in honor of the show’s 50th anniversary! \nGET TICKETS
URL:https://youngbway.org/event/hair-50th-anniversary-concert-2-2/
LOCATION:Patchogue Theatre\, 71 East Main St\, Patchogue\, NY\, 11772\, United States
CATEGORIES:Calendar
ATTACH;FMTTYPE=image/jpeg:https://youngbway.org/wp-content/uploads/2018/03/hair-50.jpg
END:VEVENT
BEGIN:VEVENT
DTSTART;TZID=America/Los_Angeles:20180309T200000
DTEND;TZID=America/Los_Angeles:20180309T223000
DTSTAMP:20260422T153226
CREATED:20180306T201327Z
LAST-MODIFIED:20180306T201327Z
UID:10060-1520625600-1520634600@youngbway.org
SUMMARY:"Hair" 50th Anniversary Concert
DESCRIPTION:Emerson Steele (Violet) plays Crissy in the special “Hair” concert in honor of the show’s 50th anniversary! \nGET TICKETS
URL:https://youngbway.org/event/hair-50th-anniversary-concert/
LOCATION:Patchogue Theatre\, 71 East Main St\, Patchogue\, NY\, 11772\, United States
CATEGORIES:Calendar
ATTACH;FMTTYPE=image/jpeg:https://youngbway.org/wp-content/uploads/2018/03/hair-50.jpg
END:VEVENT
BEGIN:VEVENT
DTSTART;TZID=America/Los_Angeles:20180309T200000
DTEND;TZID=America/Los_Angeles:20180309T223000
DTSTAMP:20260422T153226
CREATED:20180306T201327Z
LAST-MODIFIED:20180306T201327Z
UID:16129-1520625600-1520634600@youngbway.org
SUMMARY:"Hair" 50th Anniversary Concert
DESCRIPTION:Emerson Steele (Violet) plays Crissy in the special “Hair” concert in honor of the show’s 50th anniversary! \nGET TICKETS
URL:https://youngbway.org/event/hair-50th-anniversary-concert-3/
LOCATION:Patchogue Theatre\, 71 East Main St\, Patchogue\, NY\, 11772\, United States
CATEGORIES:Calendar
ATTACH;FMTTYPE=image/jpeg:https://youngbway.org/wp-content/uploads/2018/03/hair-50.jpg
END:VEVENT
BEGIN:VEVENT
DTSTART;TZID=America/Los_Angeles:20180308T190000
DTEND;TZID=America/Los_Angeles:20180308T210000
DTSTAMP:20260422T153226
CREATED:20180215T151837Z
LAST-MODIFIED:20180215T151837Z
UID:9919-1520535600-1520542800@youngbway.org
SUMMARY:FutureFest
DESCRIPTION:GET TICKETS \nAfter three sold out engagements\, FUTUREFEST returns to Feinstein’s/54 Below!\nPresented by the Foundation of New American Musicals and Open Hydrant Theater Company\, this popular Los Angeles/New York City showcase spotlights rising local young talent in a celebration of the next generation of musical theatre artists.  At FutureFest\, middle/high-school and college students sing songs from new musicals written by leading and rising lyricists/composers.\nSongs by Stephen Schwartz\, Scott Alan\, Ryan Scott Oliver\, Jeff Thomson\, Oliver Houser\, Michael Cooper\, Jordan Mann\, Ben Toth\, Chad Beguelin\, Erik Przytulski\, Michael Kooman\, Christopher Dimond and many others have been showcased at this event\, hosted by special celebrity guests. Past hosts have included Patrick Cassidy (Assassins)\, Jeff Marx (Avenue Q)\, AJ Holmes (Team StarKid/Book of Mormon)\, Jonah Platt (Wicked)\, Paris Barclay (Glee\, DGA President)\, Ben Toth (Musical Director\, Kristin Chenoweth\, Cheyenne Jackson) and Graham Phillips (13\,The Good Wife).\nStudents are selected from a variety of middle/high schools/colleges such as  NYU\, Pace University\, Fordham\, Columbia\, Stuyvesant HS\, Bronx High School of Science\, Regis HS\, Bronx Prep\, Democracy Prep\, Monsignor Farrell\, Notre Dame Academy\, Pelham HS\, Bronx School of the Arts\, and LaGuardia High School of the Performing Arts.\nBob Klein\, Linda Shusett\, and Marcia Seligson (Past Producing Artistic Director of Reprise\, UCLA) and Luis Cardenas and Sarah Rosenberg (Artistic Directors of Open Hydrant Theater Company) are proud and honored to bring FutureFest to New York City! Join us for an exciting evening of musical theatre presented by tomorrow’s rising stars.\nThe evening will be hosted by Sasha Forman.
URL:https://youngbway.org/event/futurefest/
LOCATION:54 Below\, 254 W 54th St. Cellar\, New York\, NY\, 10019\, United States
CATEGORIES:Calendar
ATTACH;FMTTYPE=image/jpeg:https://youngbway.org/wp-content/uploads/2018/02/Futurefest-1024x576.jpg
END:VEVENT
BEGIN:VEVENT
DTSTART;TZID=America/Los_Angeles:20180308T190000
DTEND;TZID=America/Los_Angeles:20180308T210000
DTSTAMP:20260422T153226
CREATED:20170901T173739Z
LAST-MODIFIED:20171109T191015Z
UID:8782-1520535600-1520542800@youngbway.org
SUMMARY:GOOD FOR OTTO Opening Night
DESCRIPTION:GET TICKETS
URL:https://youngbway.org/event/good-otto-opening-night/
LOCATION:The New Group at the Pershing Square Signature Center\, 480 W. 42nd St\, New York\, NY\, 10036\, United States
CATEGORIES:Calendar
ATTACH;FMTTYPE=image/jpeg:https://youngbway.org/wp-content/uploads/2017/09/season1000x420_1_orig.jpg
END:VEVENT
BEGIN:VEVENT
DTSTART;TZID=America/Los_Angeles:20180308T190000
DTEND;TZID=America/Los_Angeles:20180308T210000
DTSTAMP:20260422T153226
CREATED:20170901T173739Z
LAST-MODIFIED:20170901T173739Z
UID:16017-1520535600-1520542800@youngbway.org
SUMMARY:GOOD FOR OTTO Opening Night
DESCRIPTION:GET TICKETS
URL:https://youngbway.org/event/good-otto-opening-night-2/
LOCATION:The New Group at the Pershing Square Signature Center\, 480 W. 42nd St\, New York\, NY\, 10036\, United States
CATEGORIES:Calendar
ATTACH;FMTTYPE=image/jpeg:https://youngbway.org/wp-content/uploads/2017/09/season1000x420_1_orig.jpg
END:VEVENT
BEGIN:VEVENT
DTSTART;VALUE=DATE:20180306
DTEND;VALUE=DATE:20180326
DTSTAMP:20260422T153226
CREATED:20180213T003724Z
LAST-MODIFIED:20180213T003724Z
UID:9897-1520294400-1522022399@youngbway.org
SUMMARY:Gypsy - Riverside Theatre
DESCRIPTION:TICKETS \n\n\n\n\n\n\nOlivia Fanders\n(A Little Princess)\nas Baby June
URL:https://youngbway.org/event/gypsy-riverside-theatre/
LOCATION:Riverside Theatre\, 3250 Riverside Park Drive\, Vero Beach\, FL\, 32963\, United States
CATEGORIES:Regional
ATTACH;FMTTYPE=image/png:https://youngbway.org/wp-content/uploads/2018/02/gypsy-riverside-theater-banner.png
END:VEVENT
BEGIN:VEVENT
DTSTART;VALUE=DATE:20180306
DTEND;VALUE=DATE:20180326
DTSTAMP:20260422T153226
CREATED:20180213T003724Z
LAST-MODIFIED:20180213T003724Z
UID:16110-1520294400-1522022399@youngbway.org
SUMMARY:Gypsy - Riverside Theatre
DESCRIPTION:TICKETS \n\n\n\n\n\n\nOlivia Fanders\n(A Little Princess)\nas Baby June
URL:https://youngbway.org/event/gypsy-riverside-theatre-2/
LOCATION:Riverside Theatre\, 3250 Riverside Park Drive\, Vero Beach\, FL\, 32963\, United States
CATEGORIES:Regional
ATTACH;FMTTYPE=image/png:https://youngbway.org/wp-content/uploads/2018/02/gypsy-riverside-theater-banner.png
END:VEVENT
BEGIN:VEVENT
DTSTART;TZID=America/Los_Angeles:20180302T200000
DTEND;TZID=America/Los_Angeles:20180302T210000
DTSTAMP:20260422T153226
CREATED:20180219T214622Z
LAST-MODIFIED:20180219T214622Z
UID:9940-1520020800-1520024400@youngbway.org
SUMMARY:"Masterchef Jr" Season Premiere
DESCRIPTION:Olivia Bond (Harry Potter and the Cursed Child) is set to compete on the newest season of “MasterChef Jr”! 
URL:https://youngbway.org/event/masterchef-jr-season-premiere/
LOCATION:Fox
CATEGORIES:Calendar
ATTACH;FMTTYPE=image/png:https://youngbway.org/wp-content/uploads/2018/02/masterchef-jr-logo.png
END:VEVENT
BEGIN:VEVENT
DTSTART;TZID=America/Los_Angeles:20180302T200000
DTEND;TZID=America/Los_Angeles:20180302T210000
DTSTAMP:20260422T153226
CREATED:20180219T214622Z
LAST-MODIFIED:20180219T214622Z
UID:16114-1520020800-1520024400@youngbway.org
SUMMARY:"Masterchef Jr" Season Premiere
DESCRIPTION:Olivia Bond (Harry Potter and the Cursed Child) is set to compete on the newest season of “MasterChef Jr”! 
URL:https://youngbway.org/event/masterchef-jr-season-premiere-2/
LOCATION:Fox
CATEGORIES:Calendar
ATTACH;FMTTYPE=image/png:https://youngbway.org/wp-content/uploads/2018/02/masterchef-jr-logo.png
END:VEVENT
BEGIN:VEVENT
DTSTART;TZID=America/Los_Angeles:20180228T190000
DTEND;TZID=America/Los_Angeles:20180228T230000
DTSTAMP:20260422T153226
CREATED:20180221T204714Z
LAST-MODIFIED:20180221T205030Z
UID:9956-1519844400-1519858800@youngbway.org
SUMMARY:54 Sings Jane Eyre
DESCRIPTION:GET TICKETS \nFeaturing Mavis Simpson-Ernst (Evita\, You’re A Good Man\, Charlie Brown) \nFrom Charlotte Brontë’s masterpiece\, Jane Eyre tells the story of an orphaned girl\, brutalized by her aunt and then sent to an orphan school for girls where she suffers more mistreatment.  There she meets a young girl who changes her life forever.  When Jane later becomes a governess at Thornfield Hall she meets a mysterious man who holds a dark secret.  Love\, forgiveness and transformation are the themes in this gothic romance for the ages.
URL:https://youngbway.org/event/54-sings-jane-eyre/
LOCATION:54 Below\, 254 W 54th St. Cellar\, New York\, NY\, 10019\, United States
CATEGORIES:Calendar
ATTACH;FMTTYPE=image/png:https://youngbway.org/wp-content/uploads/2018/02/JaneEyre-1024x576.png
END:VEVENT
BEGIN:VEVENT
DTSTART;TZID=America/Los_Angeles:20180228T190000
DTEND;TZID=America/Los_Angeles:20180228T230000
DTSTAMP:20260422T153226
CREATED:20180221T204714Z
LAST-MODIFIED:20180221T204714Z
UID:16116-1519844400-1519858800@youngbway.org
SUMMARY:54 Sings Jane Eyre
DESCRIPTION:GET TICKETS \nFeaturing Mavis Simpson-Ernst (Evita\, You’re A Good Man\, Charlie Brown) \nFrom Charlotte Brontë’s masterpiece\, Jane Eyre tells the story of an orphaned girl\, brutalized by her aunt and then sent to an orphan school for girls where she suffers more mistreatment.  There she meets a young girl who changes her life forever.  When Jane later becomes a governess at Thornfield Hall she meets a mysterious man who holds a dark secret.  Love\, forgiveness and transformation are the themes in this gothic romance for the ages.
URL:https://youngbway.org/event/54-sings-jane-eyre-2/
LOCATION:54 Below\, 254 W 54th St. Cellar\, New York\, NY\, 10019\, United States
CATEGORIES:Calendar
ATTACH;FMTTYPE=image/png:https://youngbway.org/wp-content/uploads/2018/02/JaneEyre-1024x576.png
END:VEVENT
BEGIN:VEVENT
DTSTART;VALUE=DATE:20180227
DTEND;VALUE=DATE:20180228
DTSTAMP:20260422T153226
CREATED:20171110T185504Z
LAST-MODIFIED:20171207T183534Z
UID:9292-1519689600-1519775999@youngbway.org
SUMMARY:Kids' Night on Broadway
DESCRIPTION:The Broadway League announced that the 2018 Kids’ Night on Broadway will take place on Tuesday\, February 27\, 2018. Tickets will available for purchase in early December. \nKids’ Night on Broadway is an annual event where children 18 and under can attend participating Broadway shows for free when accompanied by a full-paying adult. A ticket includes restaurant and parking discounts\, educational programs\, and in-theater activities including talkbacks. \nParticipating shows and restaurant partners will be announced in the coming weeks. Kids’ Night on Broadway will also take place in multiple cities around the country\, with different shows and venues putting their own spin on the event.
URL:https://youngbway.org/event/kids-night-broadway/
LOCATION:NY
CATEGORIES:Calendar
ATTACH;FMTTYPE=image/jpeg:https://youngbway.org/wp-content/uploads/2017/11/kids-night-on-broadway-2017-09-hr.jpg
END:VEVENT
BEGIN:VEVENT
DTSTART;VALUE=DATE:20180227
DTEND;VALUE=DATE:20180228
DTSTAMP:20260422T153226
CREATED:20171110T185504Z
LAST-MODIFIED:20171110T185504Z
UID:16055-1519689600-1519775999@youngbway.org
SUMMARY:Kids' Night on Broadway
DESCRIPTION:The Broadway League announced that the 2018 Kids’ Night on Broadway will take place on Tuesday\, February 27\, 2018. Tickets will available for purchase in early December. \nKids’ Night on Broadway is an annual event where children 18 and under can attend participating Broadway shows for free when accompanied by a full-paying adult. A ticket includes restaurant and parking discounts\, educational programs\, and in-theater activities including talkbacks. \nParticipating shows and restaurant partners will be announced in the coming weeks. Kids’ Night on Broadway will also take place in multiple cities around the country\, with different shows and venues putting their own spin on the event.
URL:https://youngbway.org/event/kids-night-broadway-3/
LOCATION:NY
CATEGORIES:Calendar
ATTACH;FMTTYPE=image/jpeg:https://youngbway.org/wp-content/uploads/2017/11/kids-night-on-broadway-2017-09-hr.jpg
END:VEVENT
BEGIN:VEVENT
DTSTART;VALUE=DATE:20180223
DTEND;VALUE=DATE:20180224
DTSTAMP:20260422T153226
CREATED:20171211T210635Z
LAST-MODIFIED:20171211T210635Z
UID:9560-1519344000-1519430399@youngbway.org
SUMMARY:ONCE ON THIS ISLAND Cast Album Release
DESCRIPTION:ORDER HERE
URL:https://youngbway.org/event/island-cast-album-release/
LOCATION:Everywhere
CATEGORIES:Calendar
ATTACH;FMTTYPE=image/jpeg:https://youngbway.org/wp-content/uploads/2017/10/once-on-this-island.jpg
END:VEVENT
BEGIN:VEVENT
DTSTART;VALUE=DATE:20180223
DTEND;VALUE=DATE:20180224
DTSTAMP:20260422T153226
CREATED:20171211T210635Z
LAST-MODIFIED:20171211T210635Z
UID:16087-1519344000-1519430399@youngbway.org
SUMMARY:ONCE ON THIS ISLAND Cast Album Release
DESCRIPTION:ORDER HERE
URL:https://youngbway.org/event/island-cast-album-release-2/
LOCATION:Everywhere
CATEGORIES:Calendar
ATTACH;FMTTYPE=image/jpeg:https://youngbway.org/wp-content/uploads/2017/10/once-on-this-island.jpg
END:VEVENT
BEGIN:VEVENT
DTSTART;TZID=America/Los_Angeles:20180222T190000
DTEND;TZID=America/Los_Angeles:20180222T213000
DTSTAMP:20260422T153226
CREATED:20170810T171918Z
LAST-MODIFIED:20171109T191015Z
UID:8644-1519326000-1519335000@youngbway.org
SUMMARY:FROZEN First Preview
DESCRIPTION:GET INFO
URL:https://youngbway.org/event/frozen-first-preview/
LOCATION:St. James Theater\, 246 W 44th St\, New York\, NY\, 10036\, United States
CATEGORIES:Calendar
ATTACH;FMTTYPE=image/jpeg:https://youngbway.org/wp-content/uploads/2017/08/frozen-banner.jpg
END:VEVENT
BEGIN:VEVENT
DTSTART;TZID=America/Los_Angeles:20180222T190000
DTEND;TZID=America/Los_Angeles:20180222T213000
DTSTAMP:20260422T153226
CREATED:20170810T171918Z
LAST-MODIFIED:20170810T171918Z
UID:15996-1519326000-1519335000@youngbway.org
SUMMARY:FROZEN First Preview
DESCRIPTION:GET INFO
URL:https://youngbway.org/event/frozen-first-preview-2/
LOCATION:St. James Theater\, 246 W 44th St\, New York\, NY\, 10036\, United States
CATEGORIES:Calendar
ATTACH;FMTTYPE=image/jpeg:https://youngbway.org/wp-content/uploads/2017/08/frozen-banner.jpg
END:VEVENT
BEGIN:VEVENT
DTSTART;VALUE=DATE:20180222
DTEND;VALUE=DATE:20180305
DTSTAMP:20260422T153226
CREATED:20180301T165928Z
LAST-MODIFIED:20180301T165928Z
UID:10005-1519257600-1520207999@youngbway.org
SUMMARY:Jesus Christ Superstar - Cincinnati Conservatory of Music
DESCRIPTION:TICKETS \n\n\n\n\n\n\nKeaton Whittaker\n(A Little Night Music)\nas Mary Magdalene\n\n\n\n\n\n\nKylie Goldstein\n(Les Miserables)\nEnsemble\n\n\n\n\n\n\nJenny Mollett\n(The Color Purple)\nEnsemble
URL:https://youngbway.org/event/jesus-christ-superstar-cincinnati-conservatory-music/
LOCATION:Patricia Corbett Theater at Cincinnati Conservatory of Music\, 290 CCM Blvd\, Cincinnati\, OH\, 45219\, United States
CATEGORIES:Regional
ATTACH;FMTTYPE=image/jpeg:https://youngbway.org/wp-content/uploads/2018/02/jesus-christ-superstar.jpg
END:VEVENT
BEGIN:VEVENT
DTSTART;VALUE=DATE:20180222
DTEND;VALUE=DATE:20180305
DTSTAMP:20260422T153226
CREATED:20180301T165928Z
LAST-MODIFIED:20180301T165928Z
UID:16119-1519257600-1520207999@youngbway.org
SUMMARY:Jesus Christ Superstar - Cincinnati Conservatory of Music
DESCRIPTION:TICKETS \n\n\n\n\n\n\nKeaton Whittaker\n(A Little Night Music)\nas Mary Magdalene\n\n\n\n\n\n\nKylie Goldstein\n(Les Miserables)\nEnsemble\n\n\n\n\n\n\nJenny Mollett\n(The Color Purple)\nEnsemble
URL:https://youngbway.org/event/jesus-christ-superstar-cincinnati-conservatory-music-2/
LOCATION:Patricia Corbett Theater at Cincinnati Conservatory of Music\, 290 CCM Blvd\, Cincinnati\, OH\, 45219\, United States
CATEGORIES:Regional
ATTACH;FMTTYPE=image/jpeg:https://youngbway.org/wp-content/uploads/2018/02/jesus-christ-superstar.jpg
END:VEVENT
END:VCALENDAR