BEGIN:VCALENDAR
VERSION:2.0
PRODID:-//Young Broadway Actor News - ECPv6.2.6//NONSGML v1.0//EN
CALSCALE:GREGORIAN
METHOD:PUBLISH
X-WR-CALNAME:Young Broadway Actor News
X-ORIGINAL-URL:https://youngbway.org
X-WR-CALDESC:Events for Young Broadway Actor News
REFRESH-INTERVAL;VALUE=DURATION:PT1H
X-Robots-Tag:noindex
X-PUBLISHED-TTL:PT1H
BEGIN:VTIMEZONE
TZID:America/Los_Angeles
BEGIN:DAYLIGHT
TZOFFSETFROM:-0800
TZOFFSETTO:-0700
TZNAME:PDT
DTSTART:20180311T100000
END:DAYLIGHT
BEGIN:STANDARD
TZOFFSETFROM:-0700
TZOFFSETTO:-0800
TZNAME:PST
DTSTART:20181104T090000
END:STANDARD
END:VTIMEZONE
BEGIN:VEVENT
DTSTART;TZID=America/Los_Angeles:20180302T200000
DTEND;TZID=America/Los_Angeles:20180302T210000
DTSTAMP:20260422T040350
CREATED:20180219T214622Z
LAST-MODIFIED:20180219T214622Z
UID:9940-1520020800-1520024400@youngbway.org
SUMMARY:"Masterchef Jr" Season Premiere
DESCRIPTION:Olivia Bond (Harry Potter and the Cursed Child) is set to compete on the newest season of “MasterChef Jr”! 
URL:https://youngbway.org/event/masterchef-jr-season-premiere/
LOCATION:Fox
CATEGORIES:Calendar
ATTACH;FMTTYPE=image/png:https://youngbway.org/wp-content/uploads/2018/02/masterchef-jr-logo.png
END:VEVENT
BEGIN:VEVENT
DTSTART;TZID=America/Los_Angeles:20180302T200000
DTEND;TZID=America/Los_Angeles:20180302T210000
DTSTAMP:20260422T040350
CREATED:20180219T214622Z
LAST-MODIFIED:20180219T214622Z
UID:16114-1520020800-1520024400@youngbway.org
SUMMARY:"Masterchef Jr" Season Premiere
DESCRIPTION:Olivia Bond (Harry Potter and the Cursed Child) is set to compete on the newest season of “MasterChef Jr”! 
URL:https://youngbway.org/event/masterchef-jr-season-premiere-2/
LOCATION:Fox
CATEGORIES:Calendar
ATTACH;FMTTYPE=image/png:https://youngbway.org/wp-content/uploads/2018/02/masterchef-jr-logo.png
END:VEVENT
BEGIN:VEVENT
DTSTART;TZID=America/Los_Angeles:20180228T190000
DTEND;TZID=America/Los_Angeles:20180228T230000
DTSTAMP:20260422T040350
CREATED:20180221T204714Z
LAST-MODIFIED:20180221T205030Z
UID:9956-1519844400-1519858800@youngbway.org
SUMMARY:54 Sings Jane Eyre
DESCRIPTION:GET TICKETS \nFeaturing Mavis Simpson-Ernst (Evita\, You’re A Good Man\, Charlie Brown) \nFrom Charlotte Brontë’s masterpiece\, Jane Eyre tells the story of an orphaned girl\, brutalized by her aunt and then sent to an orphan school for girls where she suffers more mistreatment.  There she meets a young girl who changes her life forever.  When Jane later becomes a governess at Thornfield Hall she meets a mysterious man who holds a dark secret.  Love\, forgiveness and transformation are the themes in this gothic romance for the ages.
URL:https://youngbway.org/event/54-sings-jane-eyre/
LOCATION:54 Below\, 254 W 54th St. Cellar\, New York\, NY\, 10019\, United States
CATEGORIES:Calendar
ATTACH;FMTTYPE=image/png:https://youngbway.org/wp-content/uploads/2018/02/JaneEyre-1024x576.png
END:VEVENT
BEGIN:VEVENT
DTSTART;TZID=America/Los_Angeles:20180228T190000
DTEND;TZID=America/Los_Angeles:20180228T230000
DTSTAMP:20260422T040350
CREATED:20180221T204714Z
LAST-MODIFIED:20180221T204714Z
UID:16116-1519844400-1519858800@youngbway.org
SUMMARY:54 Sings Jane Eyre
DESCRIPTION:GET TICKETS \nFeaturing Mavis Simpson-Ernst (Evita\, You’re A Good Man\, Charlie Brown) \nFrom Charlotte Brontë’s masterpiece\, Jane Eyre tells the story of an orphaned girl\, brutalized by her aunt and then sent to an orphan school for girls where she suffers more mistreatment.  There she meets a young girl who changes her life forever.  When Jane later becomes a governess at Thornfield Hall she meets a mysterious man who holds a dark secret.  Love\, forgiveness and transformation are the themes in this gothic romance for the ages.
URL:https://youngbway.org/event/54-sings-jane-eyre-2/
LOCATION:54 Below\, 254 W 54th St. Cellar\, New York\, NY\, 10019\, United States
CATEGORIES:Calendar
ATTACH;FMTTYPE=image/png:https://youngbway.org/wp-content/uploads/2018/02/JaneEyre-1024x576.png
END:VEVENT
BEGIN:VEVENT
DTSTART;VALUE=DATE:20180227
DTEND;VALUE=DATE:20180228
DTSTAMP:20260422T040350
CREATED:20171110T185504Z
LAST-MODIFIED:20171207T183534Z
UID:9292-1519689600-1519775999@youngbway.org
SUMMARY:Kids' Night on Broadway
DESCRIPTION:The Broadway League announced that the 2018 Kids’ Night on Broadway will take place on Tuesday\, February 27\, 2018. Tickets will available for purchase in early December. \nKids’ Night on Broadway is an annual event where children 18 and under can attend participating Broadway shows for free when accompanied by a full-paying adult. A ticket includes restaurant and parking discounts\, educational programs\, and in-theater activities including talkbacks. \nParticipating shows and restaurant partners will be announced in the coming weeks. Kids’ Night on Broadway will also take place in multiple cities around the country\, with different shows and venues putting their own spin on the event.
URL:https://youngbway.org/event/kids-night-broadway/
LOCATION:NY
CATEGORIES:Calendar
ATTACH;FMTTYPE=image/jpeg:https://youngbway.org/wp-content/uploads/2017/11/kids-night-on-broadway-2017-09-hr.jpg
END:VEVENT
BEGIN:VEVENT
DTSTART;VALUE=DATE:20180227
DTEND;VALUE=DATE:20180228
DTSTAMP:20260422T040350
CREATED:20171110T185504Z
LAST-MODIFIED:20171110T185504Z
UID:16055-1519689600-1519775999@youngbway.org
SUMMARY:Kids' Night on Broadway
DESCRIPTION:The Broadway League announced that the 2018 Kids’ Night on Broadway will take place on Tuesday\, February 27\, 2018. Tickets will available for purchase in early December. \nKids’ Night on Broadway is an annual event where children 18 and under can attend participating Broadway shows for free when accompanied by a full-paying adult. A ticket includes restaurant and parking discounts\, educational programs\, and in-theater activities including talkbacks. \nParticipating shows and restaurant partners will be announced in the coming weeks. Kids’ Night on Broadway will also take place in multiple cities around the country\, with different shows and venues putting their own spin on the event.
URL:https://youngbway.org/event/kids-night-broadway-3/
LOCATION:NY
CATEGORIES:Calendar
ATTACH;FMTTYPE=image/jpeg:https://youngbway.org/wp-content/uploads/2017/11/kids-night-on-broadway-2017-09-hr.jpg
END:VEVENT
BEGIN:VEVENT
DTSTART;VALUE=DATE:20180223
DTEND;VALUE=DATE:20180224
DTSTAMP:20260422T040350
CREATED:20171211T210635Z
LAST-MODIFIED:20171211T210635Z
UID:9560-1519344000-1519430399@youngbway.org
SUMMARY:ONCE ON THIS ISLAND Cast Album Release
DESCRIPTION:ORDER HERE
URL:https://youngbway.org/event/island-cast-album-release/
LOCATION:Everywhere
CATEGORIES:Calendar
ATTACH;FMTTYPE=image/jpeg:https://youngbway.org/wp-content/uploads/2017/10/once-on-this-island.jpg
END:VEVENT
BEGIN:VEVENT
DTSTART;VALUE=DATE:20180223
DTEND;VALUE=DATE:20180224
DTSTAMP:20260422T040350
CREATED:20171211T210635Z
LAST-MODIFIED:20171211T210635Z
UID:16087-1519344000-1519430399@youngbway.org
SUMMARY:ONCE ON THIS ISLAND Cast Album Release
DESCRIPTION:ORDER HERE
URL:https://youngbway.org/event/island-cast-album-release-2/
LOCATION:Everywhere
CATEGORIES:Calendar
ATTACH;FMTTYPE=image/jpeg:https://youngbway.org/wp-content/uploads/2017/10/once-on-this-island.jpg
END:VEVENT
BEGIN:VEVENT
DTSTART;TZID=America/Los_Angeles:20180222T190000
DTEND;TZID=America/Los_Angeles:20180222T213000
DTSTAMP:20260422T040350
CREATED:20170810T171918Z
LAST-MODIFIED:20171109T191015Z
UID:8644-1519326000-1519335000@youngbway.org
SUMMARY:FROZEN First Preview
DESCRIPTION:GET INFO
URL:https://youngbway.org/event/frozen-first-preview/
LOCATION:St. James Theater\, 246 W 44th St\, New York\, NY\, 10036\, United States
CATEGORIES:Calendar
ATTACH;FMTTYPE=image/jpeg:https://youngbway.org/wp-content/uploads/2017/08/frozen-banner.jpg
END:VEVENT
BEGIN:VEVENT
DTSTART;TZID=America/Los_Angeles:20180222T190000
DTEND;TZID=America/Los_Angeles:20180222T213000
DTSTAMP:20260422T040350
CREATED:20170810T171918Z
LAST-MODIFIED:20170810T171918Z
UID:15996-1519326000-1519335000@youngbway.org
SUMMARY:FROZEN First Preview
DESCRIPTION:GET INFO
URL:https://youngbway.org/event/frozen-first-preview-2/
LOCATION:St. James Theater\, 246 W 44th St\, New York\, NY\, 10036\, United States
CATEGORIES:Calendar
ATTACH;FMTTYPE=image/jpeg:https://youngbway.org/wp-content/uploads/2017/08/frozen-banner.jpg
END:VEVENT
BEGIN:VEVENT
DTSTART;VALUE=DATE:20180222
DTEND;VALUE=DATE:20180305
DTSTAMP:20260422T040350
CREATED:20180301T165928Z
LAST-MODIFIED:20180301T165928Z
UID:10005-1519257600-1520207999@youngbway.org
SUMMARY:Jesus Christ Superstar - Cincinnati Conservatory of Music
DESCRIPTION:TICKETS \n\n\n\n\n\n\nKeaton Whittaker\n(A Little Night Music)\nas Mary Magdalene\n\n\n\n\n\n\nKylie Goldstein\n(Les Miserables)\nEnsemble\n\n\n\n\n\n\nJenny Mollett\n(The Color Purple)\nEnsemble
URL:https://youngbway.org/event/jesus-christ-superstar-cincinnati-conservatory-music/
LOCATION:Patricia Corbett Theater at Cincinnati Conservatory of Music\, 290 CCM Blvd\, Cincinnati\, OH\, 45219\, United States
CATEGORIES:Regional
ATTACH;FMTTYPE=image/jpeg:https://youngbway.org/wp-content/uploads/2018/02/jesus-christ-superstar.jpg
END:VEVENT
BEGIN:VEVENT
DTSTART;VALUE=DATE:20180222
DTEND;VALUE=DATE:20180305
DTSTAMP:20260422T040350
CREATED:20180301T165928Z
LAST-MODIFIED:20180301T165928Z
UID:16119-1519257600-1520207999@youngbway.org
SUMMARY:Jesus Christ Superstar - Cincinnati Conservatory of Music
DESCRIPTION:TICKETS \n\n\n\n\n\n\nKeaton Whittaker\n(A Little Night Music)\nas Mary Magdalene\n\n\n\n\n\n\nKylie Goldstein\n(Les Miserables)\nEnsemble\n\n\n\n\n\n\nJenny Mollett\n(The Color Purple)\nEnsemble
URL:https://youngbway.org/event/jesus-christ-superstar-cincinnati-conservatory-music-2/
LOCATION:Patricia Corbett Theater at Cincinnati Conservatory of Music\, 290 CCM Blvd\, Cincinnati\, OH\, 45219\, United States
CATEGORIES:Regional
ATTACH;FMTTYPE=image/jpeg:https://youngbway.org/wp-content/uploads/2018/02/jesus-christ-superstar.jpg
END:VEVENT
BEGIN:VEVENT
DTSTART;TZID=America/Los_Angeles:20180220T190000
DTEND;TZID=America/Los_Angeles:20180220T210000
DTSTAMP:20260422T040350
CREATED:20170901T173637Z
LAST-MODIFIED:20171109T191016Z
UID:8778-1519153200-1519160400@youngbway.org
SUMMARY:GOOD FOR OTTO First Preview
DESCRIPTION:GET TICKETS
URL:https://youngbway.org/event/good-otto-first-preview/
LOCATION:The New Group at the Pershing Square Signature Center\, 480 W. 42nd St\, New York\, NY\, 10036\, United States
CATEGORIES:Calendar
ATTACH;FMTTYPE=image/jpeg:https://youngbway.org/wp-content/uploads/2017/09/season1000x420_1_orig.jpg
END:VEVENT
BEGIN:VEVENT
DTSTART;TZID=America/Los_Angeles:20180220T190000
DTEND;TZID=America/Los_Angeles:20180220T210000
DTSTAMP:20260422T040350
CREATED:20170901T173637Z
LAST-MODIFIED:20170901T173637Z
UID:16016-1519153200-1519160400@youngbway.org
SUMMARY:GOOD FOR OTTO First Preview
DESCRIPTION:GET TICKETS
URL:https://youngbway.org/event/good-otto-first-preview-2/
LOCATION:The New Group at the Pershing Square Signature Center\, 480 W. 42nd St\, New York\, NY\, 10036\, United States
CATEGORIES:Calendar
ATTACH;FMTTYPE=image/jpeg:https://youngbway.org/wp-content/uploads/2017/09/season1000x420_1_orig.jpg
END:VEVENT
BEGIN:VEVENT
DTSTART;TZID=America/Los_Angeles:20180218T143000
DTEND;TZID=America/Los_Angeles:20180218T170000
DTSTAMP:20260422T040350
CREATED:20180108T193756Z
LAST-MODIFIED:20180108T193756Z
UID:9678-1518964200-1518973200@youngbway.org
SUMMARY:BAR MITZVAH BOY Last Performance
DESCRIPTION:GET TICKETS
URL:https://youngbway.org/event/bar-mitzvah-boy-last-performance/
LOCATION:York Theatre Company\, 619 Lexington Ave\, New York\, NY\, 10022\, United States
CATEGORIES:Calendar
ATTACH;FMTTYPE=image/jpeg:https://youngbway.org/wp-content/uploads/2018/01/York-LOGO-LONG-01-1024x493.jpg
END:VEVENT
BEGIN:VEVENT
DTSTART;TZID=America/Los_Angeles:20180218T143000
DTEND;TZID=America/Los_Angeles:20180218T170000
DTSTAMP:20260422T040350
CREATED:20180108T193756Z
LAST-MODIFIED:20180108T193756Z
UID:16095-1518964200-1518973200@youngbway.org
SUMMARY:BAR MITZVAH BOY Last Performance
DESCRIPTION:GET TICKETS
URL:https://youngbway.org/event/bar-mitzvah-boy-last-performance-2/
LOCATION:York Theatre Company\, 619 Lexington Ave\, New York\, NY\, 10022\, United States
CATEGORIES:Calendar
ATTACH;FMTTYPE=image/jpeg:https://youngbway.org/wp-content/uploads/2018/01/York-LOGO-LONG-01-1024x493.jpg
END:VEVENT
BEGIN:VEVENT
DTSTART;TZID=America/Los_Angeles:20180216T200000
DTEND;TZID=America/Los_Angeles:20180216T213000
DTSTAMP:20260422T040350
CREATED:20180108T194452Z
LAST-MODIFIED:20180108T194452Z
UID:9683-1518811200-1518816600@youngbway.org
SUMMARY:"Zombies" Premiere
DESCRIPTION:The new Disney Channel Original Movie features Milo Manheim (NYMF’s Generation Me) and Meg Donnelly (Sound of Music Live)!  \nWatch the trailer:
URL:https://youngbway.org/event/zombies-premiere/
LOCATION:Disney Channel
CATEGORIES:Calendar
ATTACH;FMTTYPE=image/jpeg:https://youngbway.org/wp-content/uploads/2018/01/zombies.jpg
END:VEVENT
BEGIN:VEVENT
DTSTART;TZID=America/Los_Angeles:20180216T200000
DTEND;TZID=America/Los_Angeles:20180216T213000
DTSTAMP:20260422T040350
CREATED:20180108T194452Z
LAST-MODIFIED:20180108T194452Z
UID:16097-1518811200-1518816600@youngbway.org
SUMMARY:"Zombies" Premiere
DESCRIPTION:The new Disney Channel Original Movie features Milo Manheim (NYMF’s Generation Me) and Meg Donnelly (Sound of Music Live)!  \nWatch the trailer:
URL:https://youngbway.org/event/zombies-premiere-2/
LOCATION:Disney Channel
CATEGORIES:Calendar
ATTACH;FMTTYPE=image/jpeg:https://youngbway.org/wp-content/uploads/2018/01/zombies.jpg
END:VEVENT
BEGIN:VEVENT
DTSTART;VALUE=DATE:20180216
DTEND;VALUE=DATE:20180217
DTSTAMP:20260422T040350
CREATED:20180117T171308Z
LAST-MODIFIED:20180117T171308Z
UID:9740-1518739200-1518825599@youngbway.org
SUMMARY:"Everything Sucks" Netflix Premiere
DESCRIPTION:Featuring Jahi Diallo Winston (The Lion King)! Watch the trailer below:
URL:https://youngbway.org/event/everything-sucks-netflix-premiere/
LOCATION:Netflix
CATEGORIES:Calendar
ATTACH;FMTTYPE=image/jpeg:https://youngbway.org/wp-content/uploads/2018/01/26685772_1669291383136761_5381199378608857202_o.jpg
END:VEVENT
BEGIN:VEVENT
DTSTART;VALUE=DATE:20180216
DTEND;VALUE=DATE:20180217
DTSTAMP:20260422T040350
CREATED:20180117T171308Z
LAST-MODIFIED:20180117T171308Z
UID:16100-1518739200-1518825599@youngbway.org
SUMMARY:"Everything Sucks" Netflix Premiere
DESCRIPTION:Featuring Jahi Diallo Winston (The Lion King)! Watch the trailer below:
URL:https://youngbway.org/event/everything-sucks-netflix-premiere-2/
LOCATION:Netflix
CATEGORIES:Calendar
ATTACH;FMTTYPE=image/jpeg:https://youngbway.org/wp-content/uploads/2018/01/26685772_1669291383136761_5381199378608857202_o.jpg
END:VEVENT
BEGIN:VEVENT
DTSTART;VALUE=DATE:20180212
DTEND;VALUE=DATE:20180225
DTSTAMP:20260422T040350
CREATED:20180213T004123Z
LAST-MODIFIED:20180213T004123Z
UID:9901-1518393600-1519516799@youngbway.org
SUMMARY:25th Annual Putnam County Spelling Bee - Square Foot Theatre Company
DESCRIPTION:TICKETS \n\n\n\n\n\n\nRachel Arianna\n(Number the Stars)\nas Olive Ostrovsky
URL:https://youngbway.org/event/25th-annual-putnam-county-spelling-bee-square-foot-theatre-company/
LOCATION:Square Foot Theatre Company\, 950 Yale Avenue\, Wallingford\, CT\, 06492\, United States
CATEGORIES:Regional
ATTACH;FMTTYPE=image/jpeg:https://youngbway.org/wp-content/uploads/2018/02/putnam-spelling-bee-banner.jpg
END:VEVENT
BEGIN:VEVENT
DTSTART;VALUE=DATE:20180212
DTEND;VALUE=DATE:20180225
DTSTAMP:20260422T040350
CREATED:20180213T004123Z
LAST-MODIFIED:20180213T004123Z
UID:16111-1518393600-1519516799@youngbway.org
SUMMARY:25th Annual Putnam County Spelling Bee - Square Foot Theatre Company
DESCRIPTION:TICKETS \n\n\n\n\n\n\nRachel Arianna\n(Number the Stars)\nas Olive Ostrovsky
URL:https://youngbway.org/event/25th-annual-putnam-county-spelling-bee-square-foot-theatre-company-2/
LOCATION:Square Foot Theatre Company\, 950 Yale Avenue\, Wallingford\, CT\, 06492\, United States
CATEGORIES:Regional
ATTACH;FMTTYPE=image/jpeg:https://youngbway.org/wp-content/uploads/2018/02/putnam-spelling-bee-banner.jpg
END:VEVENT
BEGIN:VEVENT
DTSTART;TZID=America/Los_Angeles:20180210T200000
DTEND;TZID=America/Los_Angeles:20180210T220000
DTSTAMP:20260422T040350
CREATED:20171208T194608Z
LAST-MODIFIED:20171208T194608Z
UID:9537-1518292800-1518300000@youngbway.org
SUMMARY:THE THING WITH FEATHERS Closing Night
DESCRIPTION:GET TICKETS
URL:https://youngbway.org/event/thing-feathers-closing-night/
LOCATION:The Barrow Group\, 312 West 36th Street\, 3rd floor\, New York\, NY\, 10036\, United States
CATEGORIES:Calendar
ATTACH;FMTTYPE=image/jpeg:https://youngbway.org/wp-content/uploads/2017/12/the-thing-with-feathers.jpg
END:VEVENT
BEGIN:VEVENT
DTSTART;TZID=America/Los_Angeles:20180210T200000
DTEND;TZID=America/Los_Angeles:20180210T220000
DTSTAMP:20260422T040350
CREATED:20171208T194608Z
LAST-MODIFIED:20171208T194608Z
UID:16084-1518292800-1518300000@youngbway.org
SUMMARY:THE THING WITH FEATHERS Closing Night
DESCRIPTION:GET TICKETS
URL:https://youngbway.org/event/thing-feathers-closing-night-2/
LOCATION:The Barrow Group\, 312 West 36th Street\, 3rd floor\, New York\, NY\, 10036\, United States
CATEGORIES:Calendar
ATTACH;FMTTYPE=image/jpeg:https://youngbway.org/wp-content/uploads/2017/12/the-thing-with-feathers.jpg
END:VEVENT
BEGIN:VEVENT
DTSTART;TZID=America/Los_Angeles:20180210T143000
DTEND;TZID=America/Los_Angeles:20180210T170000
DTSTAMP:20260422T040350
CREATED:20180108T193638Z
LAST-MODIFIED:20180108T193638Z
UID:9674-1518273000-1518282000@youngbway.org
SUMMARY:BAR MITZVAH BOY First Performance
DESCRIPTION:GET TICKETS
URL:https://youngbway.org/event/bar-mitzvah-boy-first-performance/
LOCATION:York Theatre Company\, 619 Lexington Ave\, New York\, NY\, 10022\, United States
CATEGORIES:Calendar
ATTACH;FMTTYPE=image/jpeg:https://youngbway.org/wp-content/uploads/2018/01/York-LOGO-LONG-01-1024x493.jpg
END:VEVENT
BEGIN:VEVENT
DTSTART;TZID=America/Los_Angeles:20180210T143000
DTEND;TZID=America/Los_Angeles:20180210T170000
DTSTAMP:20260422T040350
CREATED:20180108T193638Z
LAST-MODIFIED:20180108T193638Z
UID:16094-1518273000-1518282000@youngbway.org
SUMMARY:BAR MITZVAH BOY First Performance
DESCRIPTION:GET TICKETS
URL:https://youngbway.org/event/bar-mitzvah-boy-first-performance-2/
LOCATION:York Theatre Company\, 619 Lexington Ave\, New York\, NY\, 10022\, United States
CATEGORIES:Calendar
ATTACH;FMTTYPE=image/jpeg:https://youngbway.org/wp-content/uploads/2018/01/York-LOGO-LONG-01-1024x493.jpg
END:VEVENT
BEGIN:VEVENT
DTSTART;TZID=America/Los_Angeles:20180208T213000
DTEND;TZID=America/Los_Angeles:20180208T230000
DTSTAMP:20260422T040350
CREATED:20180119T190403Z
LAST-MODIFIED:20180119T190403Z
UID:9759-1518125400-1518130800@youngbway.org
SUMMARY:The Songs of Leo Hurley & Charles Osborne
DESCRIPTION:GET TICKETS \nfeaturing Tori Feinstein (Matilda)!  \nSalty Starness Productions is proud to bring its celebration of new works by composer Leo Hurley and lyricist Charles Osborne to Feinstein’s/54 Below! Directed and produced by Julie Saltman\, The Songs of Leo Hurley & Charles Osborne promises to be a night of musical surprises. From fantastical family fare to Broadway-bound sensational flair\, the concert will feature performances from Broadway’s Samantha Massell (Fiddler on the Roof\, La Boheme)\, Isaac Powell (Once On This Island)\, Tori Feinstein (Matilda)\, and many more! This special concert is not to be missed!
URL:https://youngbway.org/event/songs-leo-hurley-charles-osborne/
LOCATION:54 Below\, 254 W 54th St. Cellar\, New York\, NY\, 10019\, United States
CATEGORIES:Calendar
ATTACH;FMTTYPE=image/jpeg:https://youngbway.org/wp-content/uploads/2018/01/Hurley-Osborne-NSI-1024x576.jpg
END:VEVENT
BEGIN:VEVENT
DTSTART;TZID=America/Los_Angeles:20180208T213000
DTEND;TZID=America/Los_Angeles:20180208T230000
DTSTAMP:20260422T040350
CREATED:20180119T190403Z
LAST-MODIFIED:20180119T190403Z
UID:16102-1518125400-1518130800@youngbway.org
SUMMARY:The Songs of Leo Hurley & Charles Osborne
DESCRIPTION:GET TICKETS \nfeaturing Tori Feinstein (Matilda)!  \nSalty Starness Productions is proud to bring its celebration of new works by composer Leo Hurley and lyricist Charles Osborne to Feinstein’s/54 Below! Directed and produced by Julie Saltman\, The Songs of Leo Hurley & Charles Osborne promises to be a night of musical surprises. From fantastical family fare to Broadway-bound sensational flair\, the concert will feature performances from Broadway’s Samantha Massell (Fiddler on the Roof\, La Boheme)\, Isaac Powell (Once On This Island)\, Tori Feinstein (Matilda)\, and many more! This special concert is not to be missed!
URL:https://youngbway.org/event/songs-leo-hurley-charles-osborne-2/
LOCATION:54 Below\, 254 W 54th St. Cellar\, New York\, NY\, 10019\, United States
CATEGORIES:Calendar
ATTACH;FMTTYPE=image/jpeg:https://youngbway.org/wp-content/uploads/2018/01/Hurley-Osborne-NSI-1024x576.jpg
END:VEVENT
BEGIN:VEVENT
DTSTART;VALUE=DATE:20180208
DTEND;VALUE=DATE:20180218
DTSTAMP:20260422T040350
CREATED:20180206T220522Z
LAST-MODIFIED:20180206T220632Z
UID:9860-1518048000-1518911999@youngbway.org
SUMMARY:Footloose - Dakota High School
DESCRIPTION:TICKETS \n\n\n\n\n\n\nTaylor Caldwell\n(School of Rock)\nas Rusty\nFootloose the Musical is a classic tale of teenage rebellion. Come and see these kids as they try to fit into a small town where dancing and rock music is illegal.
URL:https://youngbway.org/event/footloose-dakota-high-school/
LOCATION:Dakota High School\, 21051 21 Mile Road\, Macomb\, MI\, 48044\, United States
CATEGORIES:Regional
ATTACH;FMTTYPE=image/jpeg:https://youngbway.org/wp-content/uploads/2018/02/footloose-dhs.jpg
END:VEVENT
BEGIN:VEVENT
DTSTART;VALUE=DATE:20180208
DTEND;VALUE=DATE:20180218
DTSTAMP:20260422T040350
CREATED:20180206T220522Z
LAST-MODIFIED:20180206T220522Z
UID:16106-1518048000-1518911999@youngbway.org
SUMMARY:Footloose - Dakota High School
DESCRIPTION:TICKETS \n\n\n\n\n\n\nTaylor Caldwell\n(School of Rock)\nas Rusty\nFootloose the Musical is a classic tale of teenage rebellion. Come and see these kids as they try to fit into a small town where dancing and rock music is illegal.
URL:https://youngbway.org/event/footloose-dakota-high-school-2/
LOCATION:Dakota High School\, 21051 21 Mile Road\, Macomb\, MI\, 48044\, United States
CATEGORIES:Regional
ATTACH;FMTTYPE=image/jpeg:https://youngbway.org/wp-content/uploads/2018/02/footloose-dhs.jpg
END:VEVENT
END:VCALENDAR