BEGIN:VCALENDAR
VERSION:2.0
PRODID:-//Young Broadway Actor News - ECPv6.2.6//NONSGML v1.0//EN
CALSCALE:GREGORIAN
METHOD:PUBLISH
X-WR-CALNAME:Young Broadway Actor News
X-ORIGINAL-URL:https://youngbway.org
X-WR-CALDESC:Events for Young Broadway Actor News
REFRESH-INTERVAL;VALUE=DURATION:PT1H
X-Robots-Tag:noindex
X-PUBLISHED-TTL:PT1H
BEGIN:VTIMEZONE
TZID:America/Los_Angeles
BEGIN:DAYLIGHT
TZOFFSETFROM:-0800
TZOFFSETTO:-0700
TZNAME:PDT
DTSTART:20190310T100000
END:DAYLIGHT
BEGIN:STANDARD
TZOFFSETFROM:-0700
TZOFFSETTO:-0800
TZNAME:PST
DTSTART:20191103T090000
END:STANDARD
END:VTIMEZONE
BEGIN:VEVENT
DTSTART;TZID=America/Los_Angeles:20190820T100000
DTEND;TZID=America/Los_Angeles:20190820T180000
DTSTAMP:20260422T174448
CREATED:20190808T044104Z
LAST-MODIFIED:20190808T044104Z
UID:13515-1566295200-1566324000@youngbway.org
SUMMARY:A CHRISTMAS CAROL Equity Principal Auditions (Day 2)
DESCRIPTION:GET MORE INFO \nA Christmas Carol will arrive at a Broadway theater (TBD) this holiday season and they are seeking actors for their principal roles. \nSEEKING:\nTINY TIM (Male or Female\, 8-12) 9 years old. A seer who carries a disability. Performers with disabilities are encouraged to audition.  \nFor a listing of all roles (including adult roles)\, please see this audition notice.  \nActors will read from sides\, provided at the EPA. Bring picture and resume. \nNote: These auditions will take place over the course of three days. You only need to attend one day.  \nAre you a non-Equity performer who would like to attend this Equity audition? Pleas see Actors Aesthetic for details. 
URL:https://youngbway.org/event/a-christmas-carol-equity-principal-auditions-day-2/
LOCATION:Ripley-Grier Studios (305)\, 305 W 38th St Studios 206/207\, New York\, NY\, 10018\, United States
CATEGORIES:Calendar
ATTACH;FMTTYPE=image/jpeg:https://youngbway.org/wp-content/uploads/2019/08/a-christmas-carol.jpg
END:VEVENT
BEGIN:VEVENT
DTSTART;TZID=America/Los_Angeles:20190820T100000
DTEND;TZID=America/Los_Angeles:20190820T180000
DTSTAMP:20260422T174448
CREATED:20190808T044104Z
LAST-MODIFIED:20190808T044104Z
UID:16573-1566295200-1566324000@youngbway.org
SUMMARY:A CHRISTMAS CAROL Equity Principal Auditions (Day 2)
DESCRIPTION:GET MORE INFO \nA Christmas Carol will arrive at a Broadway theater (TBD) this holiday season and they are seeking actors for their principal roles. \nSEEKING:\nTINY TIM (Male or Female\, 8-12) 9 years old. A seer who carries a disability. Performers with disabilities are encouraged to audition.  \nFor a listing of all roles (including adult roles)\, please see this audition notice.  \nActors will read from sides\, provided at the EPA. Bring picture and resume. \nNote: These auditions will take place over the course of three days. You only need to attend one day.  \nAre you a non-Equity performer who would like to attend this Equity audition? Pleas see Actors Aesthetic for details. 
URL:https://youngbway.org/event/a-christmas-carol-equity-principal-auditions-day-2-2/
LOCATION:Ripley-Grier Studios (305)\, 305 W 38th St Studios 206/207\, New York\, NY\, 10018\, United States
CATEGORIES:Calendar
ATTACH;FMTTYPE=image/jpeg:https://youngbway.org/wp-content/uploads/2019/08/a-christmas-carol.jpg
END:VEVENT
BEGIN:VEVENT
DTSTART;TZID=America/Los_Angeles:20190820T100000
DTEND;TZID=America/Los_Angeles:20190820T110000
DTSTAMP:20260422T174448
CREATED:20190819T025655Z
LAST-MODIFIED:20190819T025655Z
UID:13559-1566295200-1566298800@youngbway.org
SUMMARY:THE MUSIC MAN Open Call for Tommy Djilas
DESCRIPTION:The Music Man is holding an open call for the role of Tommy Djilas! The show is seeking a young male actor ages 15-19 who’s also an excellent dancer. Please see the flyer below for details!
URL:https://youngbway.org/event/the-music-man-open-call-for-tommy-djilas/
LOCATION:Pearl Studios 500 – 3rd Floor\, 500 8th Avenue\, 3rd Floor\, New York\, NY\, 10018\, United States
CATEGORIES:Calendar
ATTACH;FMTTYPE=image/jpeg:https://youngbway.org/wp-content/uploads/2019/03/the-music-man.jpg
END:VEVENT
BEGIN:VEVENT
DTSTART;TZID=America/Los_Angeles:20190820T100000
DTEND;TZID=America/Los_Angeles:20190820T110000
DTSTAMP:20260422T174448
CREATED:20190819T025655Z
LAST-MODIFIED:20190819T025655Z
UID:16578-1566295200-1566298800@youngbway.org
SUMMARY:THE MUSIC MAN Open Call for Tommy Djilas
DESCRIPTION:The Music Man is holding an open call for the role of Tommy Djilas! The show is seeking a young male actor ages 15-19 who’s also an excellent dancer. Please see the flyer below for details!
URL:https://youngbway.org/event/the-music-man-open-call-for-tommy-djilas-2/
LOCATION:Pearl Studios 500 – 3rd Floor\, 500 8th Avenue\, 3rd Floor\, New York\, NY\, 10018\, United States
CATEGORIES:Calendar
ATTACH;FMTTYPE=image/jpeg:https://youngbway.org/wp-content/uploads/2019/03/the-music-man.jpg
END:VEVENT
BEGIN:VEVENT
DTSTART;TZID=America/Los_Angeles:20190819T100000
DTEND;TZID=America/Los_Angeles:20190819T180000
DTSTAMP:20260422T174448
CREATED:20190808T043841Z
LAST-MODIFIED:20190808T043841Z
UID:16572-1566208800-1566237600@youngbway.org
SUMMARY:A CHRISTMAS CAROL Equity Principal Auditions (Day 1)
DESCRIPTION:GET MORE INFO \nA Christmas Carol will arrive at a Broadway theater (TBD) this holiday season and they are seeking actors for their principal roles. \nSEEKING:\nTINY TIM (Male or Female\, 8-12) 9 years old. A seer who carries a disability. Performers with disabilities are encouraged to audition.  \nFor a listing of all roles (including adult roles)\, please see this audition notice.  \nActors will read from sides\, provided at the EPA. Bring picture and resume. \nNote: These auditions will take place over the course of three days. You only need to attend one day.  \nAre you a non-Equity performer who would like to attend this Equity audition? Pleas see Actors Aesthetic for details. 
URL:https://youngbway.org/event/a-christmas-carol-equity-principal-auditions-day-1-2/
LOCATION:Ripley-Grier Studios (305)\, 305 W 38th St Studios 206/207\, New York\, NY\, 10018\, United States
CATEGORIES:Calendar
ATTACH;FMTTYPE=image/jpeg:https://youngbway.org/wp-content/uploads/2019/08/a-christmas-carol.jpg
END:VEVENT
BEGIN:VEVENT
DTSTART;TZID=America/Los_Angeles:20190819T100000
DTEND;TZID=America/Los_Angeles:20190819T180000
DTSTAMP:20260422T174448
CREATED:20190808T043841Z
LAST-MODIFIED:20190808T043841Z
UID:13512-1566208800-1566237600@youngbway.org
SUMMARY:A CHRISTMAS CAROL Equity Principal Auditions (Day 1)
DESCRIPTION:GET MORE INFO \nA Christmas Carol will arrive at a Broadway theater (TBD) this holiday season and they are seeking actors for their principal roles. \nSEEKING:\nTINY TIM (Male or Female\, 8-12) 9 years old. A seer who carries a disability. Performers with disabilities are encouraged to audition.  \nFor a listing of all roles (including adult roles)\, please see this audition notice.  \nActors will read from sides\, provided at the EPA. Bring picture and resume. \nNote: These auditions will take place over the course of three days. You only need to attend one day.  \nAre you a non-Equity performer who would like to attend this Equity audition? Pleas see Actors Aesthetic for details. 
URL:https://youngbway.org/event/a-christmas-carol-equity-principal-auditions-day-1/
LOCATION:Ripley-Grier Studios (305)\, 305 W 38th St Studios 206/207\, New York\, NY\, 10018\, United States
CATEGORIES:Calendar
ATTACH;FMTTYPE=image/jpeg:https://youngbway.org/wp-content/uploads/2019/08/a-christmas-carol.jpg
END:VEVENT
BEGIN:VEVENT
DTSTART;TZID=America/Los_Angeles:20190818T200000
DTEND;TZID=America/Los_Angeles:20190818T220000
DTSTAMP:20260422T174448
CREATED:20190309T175104Z
LAST-MODIFIED:20190309T175104Z
UID:16438-1566158400-1566165600@youngbway.org
SUMMARY:MOJADA Closing Performance
DESCRIPTION:GET TICKETS
URL:https://youngbway.org/event/mojada-closing-performance-2/
LOCATION:LuEsther Hall – Public Theater\, 425 Lafayette Street\, New York\, NY\, 10003\, United States
CATEGORIES:Calendar
ATTACH;FMTTYPE=image/gif:https://youngbway.org/wp-content/uploads/2019/03/mojada.gif
END:VEVENT
BEGIN:VEVENT
DTSTART;TZID=America/Los_Angeles:20190818T200000
DTEND;TZID=America/Los_Angeles:20190818T220000
DTSTAMP:20260422T174448
CREATED:20190309T175104Z
LAST-MODIFIED:20190724T144258Z
UID:12534-1566158400-1566165600@youngbway.org
SUMMARY:MOJADA Closing Performance
DESCRIPTION:GET TICKETS
URL:https://youngbway.org/event/mojada-closing-performance/
LOCATION:LuEsther Hall – Public Theater\, 425 Lafayette Street\, New York\, NY\, 10003\, United States
CATEGORIES:Calendar
ATTACH;FMTTYPE=image/gif:https://youngbway.org/wp-content/uploads/2019/03/mojada.gif
END:VEVENT
BEGIN:VEVENT
DTSTART;VALUE=DATE:20190817
DTEND;VALUE=DATE:20190818
DTSTAMP:20260422T174448
CREATED:20190804T030611Z
LAST-MODIFIED:20190804T030611Z
UID:13498-1566000000-1566086399@youngbway.org
SUMMARY:Annie Jr - Ovations Theatre Company
DESCRIPTION:TICKETS \n\n\n\n\n\nKyla Carter\n(Number the Stars)\nas Annie
URL:https://youngbway.org/event/annie-jr-ovations-theatre-company/
LOCATION:Patchogue Theatre\, 71 East Main St\, Patchogue\, NY\, 11772\, United States
CATEGORIES:Regional
ATTACH;FMTTYPE=image/jpeg:https://youngbway.org/wp-content/uploads/2019/08/annie-jr-white-background.jpg
END:VEVENT
BEGIN:VEVENT
DTSTART;VALUE=DATE:20190817
DTEND;VALUE=DATE:20190818
DTSTAMP:20260422T174448
CREATED:20190804T030611Z
LAST-MODIFIED:20190804T030611Z
UID:16571-1566000000-1566086399@youngbway.org
SUMMARY:Annie Jr - Ovations Theatre Company
DESCRIPTION:TICKETS \n\n\n\n\n\nKyla Carter\n(Number the Stars)\nas Annie
URL:https://youngbway.org/event/annie-jr-ovations-theatre-company-2/
LOCATION:Patchogue Theatre\, 71 East Main St\, Patchogue\, NY\, 11772\, United States
CATEGORIES:Regional
ATTACH;FMTTYPE=image/jpeg:https://youngbway.org/wp-content/uploads/2019/08/annie-jr-white-background.jpg
END:VEVENT
BEGIN:VEVENT
DTSTART;TZID=America/Los_Angeles:20190815T190000
DTEND;TZID=America/Los_Angeles:20190815T203000
DTSTAMP:20260422T174448
CREATED:20190129T010037Z
LAST-MODIFIED:20190129T010037Z
UID:16414-1565895600-1565901000@youngbway.org
SUMMARY:MAKE BELIEVE Opening Night
DESCRIPTION:GET TICKETS
URL:https://youngbway.org/event/make-believe-opening-night-2/
LOCATION:Tony Kiser Stage (Second Stage Theater)\, 305 W 43rd St\, New York\, NY\, 10036\, United States
CATEGORIES:Calendar
ATTACH;FMTTYPE=image/jpeg:https://youngbway.org/wp-content/uploads/2019/01/make-believe-placeholder.jpg
END:VEVENT
BEGIN:VEVENT
DTSTART;TZID=America/Los_Angeles:20190815T190000
DTEND;TZID=America/Los_Angeles:20190815T203000
DTSTAMP:20260422T174448
CREATED:20190129T010037Z
LAST-MODIFIED:20190815T165441Z
UID:12229-1565895600-1565901000@youngbway.org
SUMMARY:MAKE BELIEVE Opening Night
DESCRIPTION:GET TICKETS
URL:https://youngbway.org/event/make-believe-opening-night/
LOCATION:Tony Kiser Stage (Second Stage Theater)\, 305 W 43rd St\, New York\, NY\, 10036\, United States
CATEGORIES:Calendar
ATTACH;FMTTYPE=image/jpeg:https://youngbway.org/wp-content/uploads/2019/01/make-believe-placeholder.jpg
END:VEVENT
BEGIN:VEVENT
DTSTART;TZID=America/Los_Angeles:20190814T220000
DTEND;TZID=America/Los_Angeles:20190814T230000
DTSTAMP:20260422T174448
CREATED:20190624T040621Z
LAST-MODIFIED:20190624T040621Z
UID:16536-1565820000-1565823600@youngbway.org
SUMMARY:"David Makes Man" Series Premiere
DESCRIPTION:“David Makes Man” (feat. Nathaniel McIntyre and Teshi Thomas of The Lion King) premieres on OWN TV at 10/9c on August 14th! Watch the trailer below:
URL:https://youngbway.org/event/david-makes-man-series-premiere-2/
LOCATION:OWN
CATEGORIES:Calendar
ATTACH;FMTTYPE=image/jpeg:https://youngbway.org/wp-content/uploads/2019/06/david-makes-man-series-premiere.jpg
END:VEVENT
BEGIN:VEVENT
DTSTART;TZID=America/Los_Angeles:20190814T220000
DTEND;TZID=America/Los_Angeles:20190814T230000
DTSTAMP:20260422T174448
CREATED:20190624T040621Z
LAST-MODIFIED:20190624T040621Z
UID:13253-1565820000-1565823600@youngbway.org
SUMMARY:"David Makes Man" Series Premiere
DESCRIPTION:“David Makes Man” (feat. Nathaniel McIntyre and Teshi Thomas of The Lion King) premieres on OWN TV at 10/9c on August 14th! Watch the trailer below:
URL:https://youngbway.org/event/david-makes-man-series-premiere/
LOCATION:OWN
CATEGORIES:Calendar
ATTACH;FMTTYPE=image/jpeg:https://youngbway.org/wp-content/uploads/2019/06/david-makes-man-series-premiere.jpg
END:VEVENT
BEGIN:VEVENT
DTSTART;TZID=America/Los_Angeles:20190814T190000
DTEND;TZID=America/Los_Angeles:20190814T210000
DTSTAMP:20260422T174448
CREATED:20190708T151645Z
LAST-MODIFIED:20190708T151645Z
UID:13317-1565809200-1565816400@youngbway.org
SUMMARY:BETRAYAL First Preview
DESCRIPTION:TICKET INFO COMING SOON
URL:https://youngbway.org/event/betrayal-first-preview/
LOCATION:Bernard B. Jacobs Theater\, 242 W 45th St\, New York\, NY\, 10036\, United States
CATEGORIES:Calendar
ATTACH;FMTTYPE=image/jpeg:https://youngbway.org/wp-content/uploads/2019/07/betrayal-banner.jpg
END:VEVENT
BEGIN:VEVENT
DTSTART;TZID=America/Los_Angeles:20190814T190000
DTEND;TZID=America/Los_Angeles:20190814T210000
DTSTAMP:20260422T174448
CREATED:20190708T151645Z
LAST-MODIFIED:20190708T151645Z
UID:16545-1565809200-1565816400@youngbway.org
SUMMARY:BETRAYAL First Preview
DESCRIPTION:TICKET INFO COMING SOON
URL:https://youngbway.org/event/betrayal-first-preview-2/
LOCATION:Bernard B. Jacobs Theater\, 242 W 45th St\, New York\, NY\, 10036\, United States
CATEGORIES:Calendar
ATTACH;FMTTYPE=image/jpeg:https://youngbway.org/wp-content/uploads/2019/07/betrayal-banner.jpg
END:VEVENT
BEGIN:VEVENT
DTSTART;VALUE=DATE:20190811
DTEND;VALUE=DATE:20190824
DTSTAMP:20260422T174448
CREATED:20190723T010339Z
LAST-MODIFIED:20190723T010339Z
UID:16556-1565481600-1566604799@youngbway.org
SUMMARY:The Perfect Fit - Rave Theater Festival
DESCRIPTION:TICKETS \n\n\n\n\n\nJoshua Turchin\n(The Pill)\nas Jake\nand Book\, Music & Lyrics\n\n\n\n\n\nSway Bhatia\n(Really Rosie\, Dream Street)\nas Rachel\n\n\n\nGrace DeAmicis\n(Harry Potter and the Cursed Child)\nas Callie\n\n\n\n\n\nCarly Gendell\n(School of Rock)\nas Elizabeth\n\n\n\nZoe Manarel\n(Matilda\, A Little Princess)\nas Alexandra\n\n\n\n\n\nJenny Mollet\n(The Color Purple)\nEnsemble\n\n\n\nIan Saraceni\n(Matilda\, The King and I)\nEnsemble
URL:https://youngbway.org/event/the-perfect-fit-rave-theater-festival-2/
LOCATION:Teatro LATEA\, 107 Suffolk St\, New York\, NY\, 10002\, United States
CATEGORIES:Regional
ATTACH;FMTTYPE=image/jpeg:https://youngbway.org/wp-content/uploads/2019/07/the-perfect-fit.jpg
END:VEVENT
BEGIN:VEVENT
DTSTART;VALUE=DATE:20190811
DTEND;VALUE=DATE:20190824
DTSTAMP:20260422T174448
CREATED:20190723T010339Z
LAST-MODIFIED:20190724T145550Z
UID:13394-1565481600-1566604799@youngbway.org
SUMMARY:The Perfect Fit - Rave Theater Festival
DESCRIPTION:TICKETS \n\n\n\n\n\nJoshua Turchin\n(The Pill)\nas Jake\nand Book\, Music & Lyrics\n\n\n\n\n\nSway Bhatia\n(Really Rosie\, Dream Street)\nas Rachel\n\n\n\nGrace DeAmicis\n(Harry Potter and the Cursed Child)\nas Callie\n\n\n\n\n\nCarly Gendell\n(School of Rock)\nas Elizabeth\n\n\n\nZoe Manarel\n(Matilda\, A Little Princess)\nas Alexandra\n\n\n\n\n\nJenny Mollet\n(The Color Purple)\nEnsemble\n\n\n\nIan Saraceni\n(Matilda\, The King and I)\nEnsemble
URL:https://youngbway.org/event/the-perfect-fit-rave-theater-festival/
LOCATION:Teatro LATEA\, 107 Suffolk St\, New York\, NY\, 10002\, United States
CATEGORIES:Regional
ATTACH;FMTTYPE=image/jpeg:https://youngbway.org/wp-content/uploads/2019/07/the-perfect-fit.jpg
END:VEVENT
BEGIN:VEVENT
DTSTART;VALUE=DATE:20190809
DTEND;VALUE=DATE:20190810
DTSTAMP:20260422T174448
CREATED:20190730T142116Z
LAST-MODIFIED:20190730T142116Z
UID:16564-1565308800-1565395199@youngbway.org
SUMMARY:"Scary Stories to Tell in the Dark" Release
DESCRIPTION:“Scary Stories To Tell In The Dark” (featuring Gabriel Rush of Billy Elliot) is described as follows: “The shadow of the Bellows family has loomed large in the small town of Mill Valley for generations. It’s in a mansion that young Sarah Bellows turns her tortured life and horrible secrets into a series of scary stories. These terrifying tales soon have a way of becoming all too real for a group of unsuspecting teens who stumble upon Sarah’s spooky home.” Watch the trailer below before the movie arrives on August 9th! 
URL:https://youngbway.org/event/scary-stories-to-tell-in-the-dark-release-2/
LOCATION:Movie Theaters
CATEGORIES:Calendar
ATTACH;FMTTYPE=image/jpeg:https://youngbway.org/wp-content/uploads/2019/07/scary-stories-banner.jpg
END:VEVENT
BEGIN:VEVENT
DTSTART;VALUE=DATE:20190809
DTEND;VALUE=DATE:20190810
DTSTAMP:20260422T174448
CREATED:20190730T142116Z
LAST-MODIFIED:20190730T142116Z
UID:13460-1565308800-1565395199@youngbway.org
SUMMARY:"Scary Stories to Tell in the Dark" Release
DESCRIPTION:“Scary Stories To Tell In The Dark” (featuring Gabriel Rush of Billy Elliot) is described as follows: “The shadow of the Bellows family has loomed large in the small town of Mill Valley for generations. It’s in a mansion that young Sarah Bellows turns her tortured life and horrible secrets into a series of scary stories. These terrifying tales soon have a way of becoming all too real for a group of unsuspecting teens who stumble upon Sarah’s spooky home.” Watch the trailer below before the movie arrives on August 9th! 
URL:https://youngbway.org/event/scary-stories-to-tell-in-the-dark-release/
LOCATION:Movie Theaters
CATEGORIES:Calendar
ATTACH;FMTTYPE=image/jpeg:https://youngbway.org/wp-content/uploads/2019/07/scary-stories-banner.jpg
END:VEVENT
BEGIN:VEVENT
DTSTART;VALUE=DATE:20190809
DTEND;VALUE=DATE:20190810
DTSTAMP:20260422T174448
CREATED:20190730T142006Z
LAST-MODIFIED:20190730T142006Z
UID:13456-1565308800-1565395199@youngbway.org
SUMMARY:"The Kitchen" Release
DESCRIPTION:“The Kitchen” (featuring Gabriel Rush of Billy Elliot) is described as follows: “When gangster husbands wind up in prison in the 1970s\, their wives take over their organization and become Hell’s Kitchen’s most powerful mobsters.” Watch the trailer below.
URL:https://youngbway.org/event/the-kitchen-release/
LOCATION:Movie Theaters
CATEGORIES:Calendar
ATTACH;FMTTYPE=image/jpeg:https://youngbway.org/wp-content/uploads/2019/07/the-kitchen-banner.jpg
END:VEVENT
BEGIN:VEVENT
DTSTART;VALUE=DATE:20190809
DTEND;VALUE=DATE:20190810
DTSTAMP:20260422T174448
CREATED:20190730T142006Z
LAST-MODIFIED:20190730T142006Z
UID:16563-1565308800-1565395199@youngbway.org
SUMMARY:"The Kitchen" Release
DESCRIPTION:“The Kitchen” (featuring Gabriel Rush of Billy Elliot) is described as follows: “When gangster husbands wind up in prison in the 1970s\, their wives take over their organization and become Hell’s Kitchen’s most powerful mobsters.” Watch the trailer below.
URL:https://youngbway.org/event/the-kitchen-release-2/
LOCATION:Movie Theaters
CATEGORIES:Calendar
ATTACH;FMTTYPE=image/jpeg:https://youngbway.org/wp-content/uploads/2019/07/the-kitchen-banner.jpg
END:VEVENT
BEGIN:VEVENT
DTSTART;VALUE=DATE:20190809
DTEND;VALUE=DATE:20190810
DTSTAMP:20260422T174448
CREATED:20190326T214101Z
LAST-MODIFIED:20190709T182929Z
UID:12659-1565308800-1565395199@youngbway.org
SUMMARY:"Dora and the Lost City of Gold" Release
DESCRIPTION:Starring Isabela Moner (Evita)! “Dora and the Lost City of Gold” is described as follows: “Having spent most of her life exploring the jungle with her parents\, nothing could prepare Dora (Isabela Moner) for her most dangerous adventure ever – High School. Always the explorer\, Dora quickly finds herself leading Boots (her best friend\, a monkey)\, Diego (Jeffrey Wahlberg)\, a mysterious jungle inhabitant (Eugenio Derbez)\, and a rag tag group of teens on a live-action adventure to save her parents (Eva Longoria\, Michael Peña) and solve the impossible mystery behind a lost city of gold.” \nWatch the trailer!
URL:https://youngbway.org/event/dora-and-the-lost-city-of-gold-release/
LOCATION:Everywhere
CATEGORIES:Calendar
ATTACH;FMTTYPE=image/jpeg:https://youngbway.org/wp-content/uploads/2019/03/dora-and-the-lost-city-of-gold-banner.jpg
END:VEVENT
BEGIN:VEVENT
DTSTART;VALUE=DATE:20190809
DTEND;VALUE=DATE:20190810
DTSTAMP:20260422T174448
CREATED:20190326T214101Z
LAST-MODIFIED:20190326T214101Z
UID:16457-1565308800-1565395199@youngbway.org
SUMMARY:"Dora and the Lost City of Gold" Release
DESCRIPTION:Starring Isabela Moner (Evita)! “Dora and the Lost City of Gold” is described as follows: “Having spent most of her life exploring the jungle with her parents\, nothing could prepare Dora (Isabela Moner) for her most dangerous adventure ever – High School. Always the explorer\, Dora quickly finds herself leading Boots (her best friend\, a monkey)\, Diego (Jeffrey Wahlberg)\, a mysterious jungle inhabitant (Eugenio Derbez)\, and a rag tag group of teens on a live-action adventure to save her parents (Eva Longoria\, Michael Peña) and solve the impossible mystery behind a lost city of gold.” \nWatch the trailer!
URL:https://youngbway.org/event/dora-and-the-lost-city-of-gold-release-2/
LOCATION:Everywhere
CATEGORIES:Calendar
ATTACH;FMTTYPE=image/jpeg:https://youngbway.org/wp-content/uploads/2019/03/dora-and-the-lost-city-of-gold-banner.jpg
END:VEVENT
BEGIN:VEVENT
DTSTART;VALUE=DATE:20190805
DTEND;VALUE=DATE:20190812
DTSTAMP:20260422T174448
CREATED:20190606T200508Z
LAST-MODIFIED:20190606T200508Z
UID:13096-1564963200-1565567999@youngbway.org
SUMMARY:Matilda - The Muny
DESCRIPTION:TICKETS \n\n\n\n\n\nMattea Conforti\n(Matilda\, Frozen\, Sunday in the Park with George)\nas Matilda
URL:https://youngbway.org/event/matilda-the-muny/
LOCATION:The Muny\, 1 Theatre Dr\, St. Louis\, MO\, 63112\, United States
CATEGORIES:Regional
ATTACH;FMTTYPE=image/jpeg:https://youngbway.org/wp-content/uploads/2019/06/matilda-the-muny.jpg
END:VEVENT
BEGIN:VEVENT
DTSTART;VALUE=DATE:20190805
DTEND;VALUE=DATE:20190812
DTSTAMP:20260422T174448
CREATED:20190606T200508Z
LAST-MODIFIED:20190606T200508Z
UID:16507-1564963200-1565567999@youngbway.org
SUMMARY:Matilda - The Muny
DESCRIPTION:TICKETS \n\n\n\n\n\nMattea Conforti\n(Matilda\, Frozen\, Sunday in the Park with George)\nas Matilda
URL:https://youngbway.org/event/matilda-the-muny-2/
LOCATION:The Muny\, 1 Theatre Dr\, St. Louis\, MO\, 63112\, United States
CATEGORIES:Regional
ATTACH;FMTTYPE=image/jpeg:https://youngbway.org/wp-content/uploads/2019/06/matilda-the-muny.jpg
END:VEVENT
BEGIN:VEVENT
DTSTART;TZID=America/Los_Angeles:20190801T100000
DTEND;TZID=America/Los_Angeles:20190801T180000
DTSTAMP:20260422T174448
CREATED:20190730T142333Z
LAST-MODIFIED:20190730T142333Z
UID:13463-1564653600-1564682400@youngbway.org
SUMMARY:MEDEA Equity Principal Auditions
DESCRIPTION:GET INFO \nSEEKING\nEquity actors for various roles. See breakdown. \nBREAKDOWN\nCast:\nSEEKING THE FOLLOWING:\nEDGAR (Male\, 10) Anna and Lucas’ son. Seeking all ethnicities.\nGIJS (Male\, 8) Anna and Lucas’ son. Seeking all ethnicities.\n*For all available roles (including adult roles)\, please see the included link.  \nPREPARATION\nActors will read from sides\, provide at the EPA. Bring picture and resume. \nAre you an non-Equity performer who’d like to attend this Equity audition? Please see this Actor Aesthetic article for more info. 
URL:https://youngbway.org/event/medea-equity-principal-auditions/
LOCATION:Pearl Studios\, 500 8th Avenue\, New York\, NY\, 10018\, United States
CATEGORIES:Calendar
ATTACH;FMTTYPE=image/png:https://youngbway.org/wp-content/uploads/2019/07/medea-banner.png
END:VEVENT
BEGIN:VEVENT
DTSTART;TZID=America/Los_Angeles:20190801T100000
DTEND;TZID=America/Los_Angeles:20190801T180000
DTSTAMP:20260422T174448
CREATED:20190730T142333Z
LAST-MODIFIED:20190730T142333Z
UID:16565-1564653600-1564682400@youngbway.org
SUMMARY:MEDEA Equity Principal Auditions
DESCRIPTION:GET INFO \nSEEKING\nEquity actors for various roles. See breakdown. \nBREAKDOWN\nCast:\nSEEKING THE FOLLOWING:\nEDGAR (Male\, 10) Anna and Lucas’ son. Seeking all ethnicities.\nGIJS (Male\, 8) Anna and Lucas’ son. Seeking all ethnicities.\n*For all available roles (including adult roles)\, please see the included link.  \nPREPARATION\nActors will read from sides\, provide at the EPA. Bring picture and resume. \nAre you an non-Equity performer who’d like to attend this Equity audition? Please see this Actor Aesthetic article for more info. 
URL:https://youngbway.org/event/medea-equity-principal-auditions-2/
LOCATION:Pearl Studios\, 500 8th Avenue\, New York\, NY\, 10018\, United States
CATEGORIES:Calendar
ATTACH;FMTTYPE=image/png:https://youngbway.org/wp-content/uploads/2019/07/medea-banner.png
END:VEVENT
BEGIN:VEVENT
DTSTART;TZID=America/Los_Angeles:20190730T190000
DTEND;TZID=America/Los_Angeles:20190730T203000
DTSTAMP:20260422T174448
CREATED:20190129T005935Z
LAST-MODIFIED:20190129T005935Z
UID:12226-1564513200-1564518600@youngbway.org
SUMMARY:MAKE BELIEVE First Preview
DESCRIPTION:GET TICKETS
URL:https://youngbway.org/event/make-believe-first-preview/
LOCATION:Tony Kiser Stage (Second Stage Theater)\, 305 W 43rd St\, New York\, NY\, 10036\, United States
CATEGORIES:Calendar
ATTACH;FMTTYPE=image/jpeg:https://youngbway.org/wp-content/uploads/2019/01/make-believe-placeholder.jpg
END:VEVENT
BEGIN:VEVENT
DTSTART;TZID=America/Los_Angeles:20190730T190000
DTEND;TZID=America/Los_Angeles:20190730T203000
DTSTAMP:20260422T174448
CREATED:20190129T005935Z
LAST-MODIFIED:20190129T005935Z
UID:16413-1564513200-1564518600@youngbway.org
SUMMARY:MAKE BELIEVE First Preview
DESCRIPTION:GET TICKETS
URL:https://youngbway.org/event/make-believe-first-preview-2/
LOCATION:Tony Kiser Stage (Second Stage Theater)\, 305 W 43rd St\, New York\, NY\, 10036\, United States
CATEGORIES:Calendar
ATTACH;FMTTYPE=image/jpeg:https://youngbway.org/wp-content/uploads/2019/01/make-believe-placeholder.jpg
END:VEVENT
END:VCALENDAR